BEGIN:VCALENDAR
VERSION:2.0
PRODID:-//Ateneo de Granada - ECPv6.15.20//NONSGML v1.0//EN
CALSCALE:GREGORIAN
METHOD:PUBLISH
X-ORIGINAL-URL:https://ateneodegranada.com
X-WR-CALDESC:Eventos para Ateneo de Granada
REFRESH-INTERVAL;VALUE=DURATION:PT1H
X-Robots-Tag:noindex
X-PUBLISHED-TTL:PT1H
BEGIN:VTIMEZONE
TZID:Europe/Paris
BEGIN:DAYLIGHT
TZOFFSETFROM:+0100
TZOFFSETTO:+0200
TZNAME:CEST
DTSTART:20240331T010000
END:DAYLIGHT
BEGIN:STANDARD
TZOFFSETFROM:+0200
TZOFFSETTO:+0100
TZNAME:CET
DTSTART:20241027T010000
END:STANDARD
BEGIN:DAYLIGHT
TZOFFSETFROM:+0100
TZOFFSETTO:+0200
TZNAME:CEST
DTSTART:20250330T010000
END:DAYLIGHT
BEGIN:STANDARD
TZOFFSETFROM:+0200
TZOFFSETTO:+0100
TZNAME:CET
DTSTART:20251026T010000
END:STANDARD
BEGIN:DAYLIGHT
TZOFFSETFROM:+0100
TZOFFSETTO:+0200
TZNAME:CEST
DTSTART:20260329T010000
END:DAYLIGHT
BEGIN:STANDARD
TZOFFSETFROM:+0200
TZOFFSETTO:+0100
TZNAME:CET
DTSTART:20261025T010000
END:STANDARD
END:VTIMEZONE
BEGIN:VEVENT
DTSTART;TZID=Europe/Paris:20250401T190000
DTEND;TZID=Europe/Paris:20250401T203000
DTSTAMP:20260424T124408
CREATED:20250327T152003Z
LAST-MODIFIED:20250327T152003Z
UID:7628-1743534000-1743539400@ateneodegranada.com
SUMMARY:CONVERSACIÓN | Cándido Méndez
DESCRIPTION:📚 La historia del trabajo tiene voz propia\nUn diálogo necesario entre experiencia\, derecho y política. Cándido Méndez y su mirada sobre el empleo en España: pasado\, presente… y el horizonte por construir.\n📍 Facultad de Relaciones Laborales y RRHH – UGR\n🗓 Martes\, 1 de abril – 19:00 h
URL:https://ateneodegranada.com/event/conversacion-candido-mendez/
LOCATION:Ateneo de Granada\, C/Martín Bohórquez\, 30\, Granada\, Granada\, 18005\, Spain
CATEGORIES:Ateneo de Granada
ATTACH;FMTTYPE=image/jpeg:https://ateneodegranada.com/wp-content/uploads/2025/03/Imagen-de-WhatsApp-2025-03-26-a-las-16.23.36_54a17e45.jpg
END:VEVENT
BEGIN:VEVENT
DTSTART;TZID=Europe/Paris:20250402T190000
DTEND;TZID=Europe/Paris:20250402T203000
DTSTAMP:20260424T124408
CREATED:20250327T152208Z
LAST-MODIFIED:20250327T152208Z
UID:7631-1743620400-1743625800@ateneodegranada.com
SUMMARY:CONFERENCIA | Violencia vicaria
DESCRIPTION:🌫 Sombras que no deberían existir\nViolencia vicaria e institucional: la doble cara de una misma injusticia. Un encuentro para nombrar lo silenciado\, para alumbrar desde la palabra.\n📍 Sede del Ateneo de Granada\n🗓 Miércoles\, 2 de abril – 19:00 h
URL:https://ateneodegranada.com/event/conferencia-violencia-vicaria/
LOCATION:Ateneo de Granada\, C/Martín Bohórquez\, 30\, Granada\, Granada\, 18005\, Spain
CATEGORIES:Ateneo de Granada,Sección de Feminismo
ATTACH;FMTTYPE=image/jpeg:https://ateneodegranada.com/wp-content/uploads/2025/03/Imagen-de-WhatsApp-2025-03-26-a-las-16.23.52_56d92e30.jpg
END:VEVENT
BEGIN:VEVENT
DTSTART;TZID=Europe/Paris:20250403T190000
DTEND;TZID=Europe/Paris:20250403T210000
DTSTAMP:20260424T124408
CREATED:20250328T091035Z
LAST-MODIFIED:20250328T091035Z
UID:7634-1743706800-1743714000@ateneodegranada.com
SUMMARY:PRESENTACIÓN | En las cavernas del alma
DESCRIPTION:Lecturas del Ateneo\n✨ En las cavernas del alma\nUna travesía poética hacia lo más hondo del ser. \nTeresa Ariza Periáñez presenta su nuevo poemario\,\nacompañada de música\, palabra y emoción.\nUn encuentro para escuchar lo que se escribe\ncuando el alma decide hablar. \n📚 Jueves\, 3 de abril de 2025 – 19:00 h\n📍 Sede del Ateneo\, C/ Martín Bohórquez 30\n🎶 Entrada libre hasta completar aforo
URL:https://ateneodegranada.com/event/presentacion-en-las-cavernas-del-alma/
LOCATION:Ateneo de Granada\, C/Martín Bohórquez\, 30\, Granada\, Granada\, 18005\, Spain
CATEGORIES:Ateneo de Granada,Lecturas del Ateneo
ATTACH;FMTTYPE=image/jpeg:https://ateneodegranada.com/wp-content/uploads/2025/03/Imagen-de-WhatsApp-2025-03-26-a-las-16.24.03_44468175.jpg
END:VEVENT
BEGIN:VEVENT
DTSTART;TZID=Europe/Paris:20250404T190000
DTEND;TZID=Europe/Paris:20250404T190000
DTSTAMP:20260424T124408
CREATED:20250328T091231Z
LAST-MODIFIED:20250328T091514Z
UID:7637-1743793200-1743793200@ateneodegranada.com
SUMMARY:CONFERENCIA | Un siglo de la repatriación de la momia de Ganivet
DESCRIPTION:La Edad de Plata y Granada\n🖋 Un siglo de la repatriación de la momia de Ganivet\nUna historia insólita\, un viaje de ida y vuelta\,\nun capítulo olvidado en la vida y muerte de un símbolo granadino. \nEl periodista Gabriel Pozo Felguera nos guía por los pliegues de la memoria y la leyenda.\nPresenta la filóloga María Bueno. \n📅 Viernes\, 4 de abril de 2025 – 19:00 h\n📍 Sede del Ateneo de Granada\, C/ Martín Bohórquez 30\n🎟 Entrada libre hasta completar aforo
URL:https://ateneodegranada.com/event/conferencia-un-siglo-de-la-repatriacion-de-la-momia-de-ganivet/
LOCATION:Ateneo de Granada\, C/Martín Bohórquez\, 30\, Granada\, Granada\, 18005\, Spain
CATEGORIES:Ateneo de Granada,Escritores de Finales del XIX y Granada
ATTACH;FMTTYPE=image/jpeg:https://ateneodegranada.com/wp-content/uploads/2025/03/Imagen-de-WhatsApp-2025-03-26-a-las-16.24.14_2e77ad36.jpg
END:VEVENT
BEGIN:VEVENT
DTSTART;TZID=Europe/Paris:20250405T093000
DTEND;TZID=Europe/Paris:20250405T143000
DTSTAMP:20260424T124408
CREATED:20250409T153321Z
LAST-MODIFIED:20250409T153321Z
UID:7655-1743845400-1743863400@ateneodegranada.com
SUMMARY:CHARLA - DEBATE  |  La enseñanza de las ciencias y su enraizamiento territorial
DESCRIPTION:El Ateneo de Granada\, junto a Ateneos de Andalucía y Granada 2031\, celebró una nueva sesión del Proyecto ApSI en Vera (Almería). \n📚 Una jornada participativa con profesorado de Primaria\, Secundaria y Universidad del Sureste Ibérico\, reflexionando sobre cómo conectar la ciencia con el territorio y la vida cotidiana. \n🗓 Sábado 5 de abril de 2025 | 9:30 a 14:30 h📍 Casa de la Cultura “Bayra” (Vera\, Almería)🎙 Coordinación a cargo de Galisteo\, Gómez\, Irurita\, Olivares\, Robles y Sánchez💻 También con participación online vía Zoom \nGracias a todas las personas que compartieron saberes\, experiencias y compromiso educativo.📸 Aquí os dejamos una selección de imágenes del encuentro. \n#AteneoDeGranada #ApSI #EducaciónTerritorial #CienciaYComunidad #Granada2031 #AteneosDeAndalucía #DocenciaCrítica #SuresteIbérico
URL:https://ateneodegranada.com/event/charla-debate-la-ensenanza-de-las-ciencias-y-su-enraizamiento-territorial/
CATEGORIES:Ateneo de Granada,Debates del Ateneo
ATTACH;FMTTYPE=image/jpeg:https://ateneodegranada.com/wp-content/uploads/2025/04/WhatsApp-Image-2025-04-09-at-10.46.02.jpeg
END:VEVENT
BEGIN:VEVENT
DTSTART;TZID=Europe/Paris:20250408T190000
DTEND;TZID=Europe/Paris:20250408T210000
DTSTAMP:20260424T124408
CREATED:20250407T162010Z
LAST-MODIFIED:20250407T162145Z
UID:7646-1744138800-1744146000@ateneodegranada.com
SUMMARY:PRESENTACIÓN | Las distancias
DESCRIPTION:📖 Lecturas del Ateneo\nEl próximo martes tenemos una cita con la literatura y la introspección. \nPresentamos “Las distancias”\, el nuevo libro de Antonio Fernández Montoya\, publicado por Editorial Traspíes (2025). Una obra que invita a mirar hacia dentro… y hacia lejos. \n🗓 Martes\, 8 de abril – 19:00 h\n📍 Sede del Ateneo (C/ Martín Bohórquez\, 30)\n🎙 Con la participación de: \nAntonio Fernández Montoya (autor) \nAgustín Martínez (periodista)\n🎤 Presenta: Miguel Jerez Mir (catedrático emérito de Ciencia Política – UGR) \nEntrada libre hasta completar aforo.\nVen a descubrir qué hay entre una mirada y otra.
URL:https://ateneodegranada.com/event/presentacion-las-distancias/
LOCATION:Ateneo de Granada\, C/Martín Bohórquez\, 30\, Granada\, Granada\, 18005\, Spain
CATEGORIES:Ateneo de Granada,Lecturas del Ateneo
ATTACH;FMTTYPE=image/jpeg:https://ateneodegranada.com/wp-content/uploads/2025/04/ateneo.granada_1743666142_3602455162812491609_50136352036.jpg
END:VEVENT
BEGIN:VEVENT
DTSTART;TZID=Europe/Paris:20250409T110000
DTEND;TZID=Europe/Paris:20250409T130000
DTSTAMP:20260424T124408
CREATED:20250407T162336Z
LAST-MODIFIED:20250409T153029Z
UID:7650-1744196400-1744203600@ateneodegranada.com
SUMMARY:TALLER | Fraude por Internet
DESCRIPTION:🔐✨ Taller gratuito: Fraude por Internet\nEl Aula de Mayores del Ateneo de Granada organiza un encuentro imprescindible para aprender a protegernos en el mundo digital. \n🧑‍💻 ¿Sabes cómo identificar estafas online?\n📲 ¿Quieres navegar con más seguridad? \n🗓 Miércoles 9 de abril | 11:00 h\n📍 Sede del Ateneo de Granada (Calle Martín Bohórquez\, 30)\n🎤 Con la participación del voluntariado de CaixaBank\n🎙 Presenta Alicia Martín\, directora del Aula de Mayores\n👥 Entrada libre hasta completar aforo \nUna cita útil\, cercana y necesaria para cuidar de nuestra comunidad.\n¡Te esperamos! \n#AteneoDeGranada #CulturaDigital #SeguridadOnline #FraudePorInternet #AulaDeMayores
URL:https://ateneodegranada.com/event/taller-fraude-por-internet/
LOCATION:Ateneo de Granada\, C/Martín Bohórquez\, 30\, Granada\, Granada\, 18005\, Spain
CATEGORIES:Ateneo de Granada,Taller
ATTACH;FMTTYPE=image/jpeg:https://ateneodegranada.com/wp-content/uploads/2025/04/Imagen-de-WhatsApp-2025-03-14-a-las-11.59.41_d7ab0335.jpg
END:VEVENT
BEGIN:VEVENT
DTSTART;TZID=Europe/Paris:20250421T190000
DTEND;TZID=Europe/Paris:20250421T210000
DTSTAMP:20260424T124408
CREATED:20250414T085037Z
LAST-MODIFIED:20250414T085037Z
UID:7658-1745262000-1745269200@ateneodegranada.com
SUMMARY:PRESENTACIÓN | Mecanismo de arena
DESCRIPTION:📚✨ Lecturas del Ateneo \nTe invitamos a la presentación del poemario Mecanismo de arena de Javier Bozalongo\, publicado por la editorial El toro celeste. Una obra que invita a detener el tiempo… palabra a palabra. \n🗓 Lunes\, 21 de abril de 2025🕖 19:00 h📍 Sede del Ateneo – C/ Martín Bohórquez 30\, Granada \n🔹 Presenta: Carmen Canet\, escritora y socia del Ateneo🔹 Coordina: María Bueno\, Ateneo de Granada \n🎟 Entrada libre hasta completar aforo \nUna cita con la poesía que no querrás perderte 🖋️ \n#AteneodeGranada #LecturasDelAteneo #JavierBozalongo #MecanismoDeArena #Poesía #GranadaCultural #ElToroCeleste #AgendaCultural #Granada2031
URL:https://ateneodegranada.com/event/presentacion-mecanismo-de-arena/
LOCATION:Ateneo de Granada\, C/Martín Bohórquez\, 30\, Granada\, Granada\, 18005\, Spain
CATEGORIES:Ateneo de Granada,Lecturas del Ateneo
ATTACH;FMTTYPE=image/png:https://ateneodegranada.com/wp-content/uploads/2025/04/21-abril.png
END:VEVENT
BEGIN:VEVENT
DTSTART;TZID=Europe/Paris:20250422T190000
DTEND;TZID=Europe/Paris:20250422T210000
DTSTAMP:20260424T124408
CREATED:20250414T085441Z
LAST-MODIFIED:20250414T085441Z
UID:7664-1745348400-1745355600@ateneodegranada.com
SUMMARY:MESA REDONDA | La salud mental que tenemos
DESCRIPTION:🧠💬 Ciclo: La salud mental que tenemos\nEn esta mesa redonda hablaremos sin tabúes sobre un tema crucial: \nLa iniciación sexual en la época de la erosión del velo que preserva el enigma del sexo\nUn diálogo necesario sobre adolescencia\, deseo\, identidad y el papel de la sociedad actual. \n🎙 Intervienen:\n🔹 Javier Cepero – Psicólogo clínico\n🔹 María Fernández – Sexóloga y periodista\n🔹 Mari Carmen Marco – Orientadora escolar\n🗣 Modera: Jesús Ambel – Psicoanalista \n📅 Martes\, 22 de abril de 2025\n🕖 19:00 h\n📍 Sede del Ateneo – C/ Martín Bohórquez 30\n🎟 Entrada libre hasta completar aforo \nOrganiza: Sección Salud y Sociedad del Ateneo de Granada\nCon el apoyo de Ateneos de Andalucía y Granada 2031 \n#AteneodeGranada #SaludMental #Sexualidad #Psicología #EducaciónSexual #DebatesAteneo #Granada2031 #CulturaEsSalud
URL:https://ateneodegranada.com/event/mesa-redonda-la-salud-mental-que-tenemos/
LOCATION:Ateneo de Granada\, C/Martín Bohórquez\, 30\, Granada\, Granada\, 18005\, Spain
CATEGORIES:Ateneo de Granada,Mesa Redonda
ATTACH;FMTTYPE=image/jpeg:https://ateneodegranada.com/wp-content/uploads/2025/04/SALUD-MENTALABRI-scaled.jpg
END:VEVENT
BEGIN:VEVENT
DTSTART;TZID=Europe/Paris:20250423T180000
DTEND;TZID=Europe/Paris:20250423T200000
DTSTAMP:20260424T124408
CREATED:20250415T115649Z
LAST-MODIFIED:20250415T115649Z
UID:7671-1745431200-1745438400@ateneodegranada.com
SUMMARY:AULA DE MAYORES | Teatro "La tía Fernanda"
DESCRIPTION:📻 Aula de Mayores 2025🎭 Representación del episodio “La tía Fernanda”de la serie radiofónica Matilde\, Perico y Periquín\, basada en la obra de Eduardo Vázquez \n🎙 Reparto:🔹 Carminca Carrique – Matilde🔹 Ángel Luis Benito – Perico🔹 Andrés Benito – Periquín🔹 Aurora Arenas – Tía Fernanda🔹 Genaro Martín – Narrador🎬 Dirige: Ángel Luis Benito \n📅 Miércoles\, 23 de abril de 2025🕕 18:00 h📍 Sede del Ateneo – C/ Martín Bohórquez 30🎟 Entrada libre hasta completar aforo \nOrganiza: Ateneo de GranadaCon la colaboración de Ateneos de Andalucía\, Ayuntamiento de Granada y Voluntariado CaixaBank
URL:https://ateneodegranada.com/event/aula-de-mayores-teatro-la-tia-fernanda/
LOCATION:Ateneo de Granada\, C/Martín Bohórquez\, 30\, Granada\, Granada\, 18005\, Spain
ATTACH;FMTTYPE=image/jpeg:https://ateneodegranada.com/wp-content/uploads/2025/04/WhatsApp-Image-2025-04-15-at-12.55.02.jpeg
END:VEVENT
BEGIN:VEVENT
DTSTART;TZID=Europe/Paris:20250423T200000
DTEND;TZID=Europe/Paris:20250423T220000
DTSTAMP:20260424T124408
CREATED:20250415T113829Z
LAST-MODIFIED:20250415T113829Z
UID:7667-1745438400-1745445600@ateneodegranada.com
SUMMARY:PRESENTACIÓN | Centinela del viento
DESCRIPTION:📖 Lecturas del AteneoPresentación del poemario Centinela del viento de Daniel López Acuña✍️ Editorial Ediciones Vitruvio\, 2024 \n🎙 Intervienen:🔹 Daniel López Acuña – Autor del libro🗣 Presenta: Daniel Rodríguez Moya – Poeta🧭 Coordina: Elena Gonzalo Jiménez – Ateneo de Granada \n📅 Miércoles\, 23 de abril de 2025🕗 20:00 h📍 Sede del Ateneo – C/ Martín Bohórquez 30🎟 Entrada libre hasta completar aforo \nOrganiza: Ateneo de GranadaCon el apoyo de Granada 2031
URL:https://ateneodegranada.com/event/presentacion-centinela-del-viento/
LOCATION:Ateneo de Granada\, C/Martín Bohórquez\, 30\, Granada\, Granada\, 18005\, Spain
CATEGORIES:Ateneo de Granada,Lecturas del Ateneo
ATTACH;FMTTYPE=image/jpeg:https://ateneodegranada.com/wp-content/uploads/2025/04/WhatsApp-Image-2025-04-15-at-12.55.01.jpeg
END:VEVENT
BEGIN:VEVENT
DTSTART;TZID=Europe/Paris:20250425T190000
DTEND;TZID=Europe/Paris:20250425T210000
DTSTAMP:20260424T124408
CREATED:20250415T121550Z
LAST-MODIFIED:20250415T121550Z
UID:7674-1745607600-1745614800@ateneodegranada.com
SUMMARY:PRESENTACIÓN | Los abrazos que no nos dimos
DESCRIPTION:📖 Lecturas del AteneoPresentación de la novela Los abrazos que no nos dimos de Paz Fanlo✍️ Editorial SELEER\, 2024 \n🎙 Intervienen:🔹 Paz Fanlo – Autora del libro🗣 Presenta y coordina: María Bueno – Ateneo de Granada \n📅 Viernes\, 25 de abril de 2025🕖 19:00 h📍 Sede del Ateneo – C/ Martín Bohórquez 30🎟 Entrada libre hasta completar aforo \nOrganiza: Ateneo de GranadaCon el apoyo de Granada 2031
URL:https://ateneodegranada.com/event/presentacion-los-abrazos-que-no-nos-dimos/
LOCATION:Ateneo de Granada\, C/Martín Bohórquez\, 30\, Granada\, Granada\, 18005\, Spain
CATEGORIES:Ateneo de Granada,Lecturas del Ateneo
ATTACH;FMTTYPE=image/jpeg:https://ateneodegranada.com/wp-content/uploads/2025/04/WhatsApp-Image-2025-04-15-at-12.55.02-1.jpeg
END:VEVENT
BEGIN:VEVENT
DTSTART;TZID=Europe/Paris:20250428T193000
DTEND;TZID=Europe/Paris:20250428T213000
DTSTAMP:20260424T124408
CREATED:20250424T094157Z
LAST-MODIFIED:20250424T094157Z
UID:7678-1745868600-1745875800@ateneodegranada.com
SUMMARY:CONFERENCIA | El difícil papel de los periódicos de papel
DESCRIPTION:📰 Conferencias del AteneoEl difícil papel de los periódicos de papelReflexión en torno a los retos actuales del periodismo y los medios impresos. \n🎙 Ponente:🔹 Andrés Cárdenas Muñoz – Periodista y escritor \n🗣 Presenta:🔹 Rosa González de Patto – Presidenta del Ateneo de Granada \n📅 Lunes\, 28 de abril de 2025🕢 19:30 h📍 Sede del Ateneo – C/ Martín Bohórquez 30🎟 Entrada libre hasta completar aforo \nOrganiza: Sección Institucional del Ateneo de GranadaCon el apoyo de Ateneos de Andalucía y Granada 2031
URL:https://ateneodegranada.com/event/conferencia-el-dificil-papel-de-los-periodicos-de-papel/
LOCATION:Ateneo de Granada\, C/Martín Bohórquez\, 30\, Granada\, Granada\, 18005\, Spain
CATEGORIES:Ateneo de Granada,Ciclo de conferencias
ATTACH;FMTTYPE=image/jpeg:https://ateneodegranada.com/wp-content/uploads/2025/04/WhatsApp-Image-2025-04-23-at-16.33.15.jpeg
END:VEVENT
BEGIN:VEVENT
DTSTART;TZID=Europe/Paris:20250430T200000
DTEND;TZID=Europe/Paris:20250430T220000
DTSTAMP:20260424T124408
CREATED:20250424T094429Z
LAST-MODIFIED:20250424T094429Z
UID:7683-1746043200-1746050400@ateneodegranada.com
SUMMARY:CHARLA-DEBATE | Conversación con Raúl Alcover
DESCRIPTION:🎤 Sección de Humanidades | Ciclo: Granada es músicaConversación con Raúl AlcoverLa canción de autor en Granada \n🎙 Interviene:🔹 Raúl Alcover \n🗣 Presenta:🔹 Álvaro Salvador \n📅 Miércoles\, 30 de abril de 2025🕗 20:00 h📍 Sede del Ateneo de Granada – C/ Martín Bohórquez 30🎟 Entrada libre hasta completar aforo \nUna cita para acercarnos a la trayectoria de uno de los grandes nombres de la canción de autor en Granada\, en un espacio de diálogo sobre música\, creación y compromiso. \nOrganiza: Ateneo de GranadaCon el apoyo de Ateneos de Andalucía y Granada 2031 \n#AteneoDeGranada #GranadaEsMúsica #RaúlAlcover #CanciónDeAutor #MúsicaYPalabra #CulturaEnGranada #AgendaCulturalGranada #Granada2031
URL:https://ateneodegranada.com/event/charla-debate-conversacion-con-raul-alcover/
LOCATION:Ateneo de Granada\, C/Martín Bohórquez\, 30\, Granada\, Granada\, 18005\, Spain
CATEGORIES:Ateneo de Granada,Ciclo de Música y Humanidades
ATTACH;FMTTYPE=image/jpeg:https://ateneodegranada.com/wp-content/uploads/2025/04/WhatsApp-Image-2025-04-23-at-16.33.15-1.jpeg
END:VEVENT
END:VCALENDAR