BEGIN:VCALENDAR
VERSION:2.0
PRODID:-//Ateneo de Granada - ECPv6.15.20//NONSGML v1.0//EN
CALSCALE:GREGORIAN
METHOD:PUBLISH
X-ORIGINAL-URL:https://ateneodegranada.com
X-WR-CALDESC:Eventos para Ateneo de Granada
REFRESH-INTERVAL;VALUE=DURATION:PT1H
X-Robots-Tag:noindex
X-PUBLISHED-TTL:PT1H
BEGIN:VTIMEZONE
TZID:Europe/Paris
BEGIN:DAYLIGHT
TZOFFSETFROM:+0100
TZOFFSETTO:+0200
TZNAME:CEST
DTSTART:20240331T010000
END:DAYLIGHT
BEGIN:STANDARD
TZOFFSETFROM:+0200
TZOFFSETTO:+0100
TZNAME:CET
DTSTART:20241027T010000
END:STANDARD
BEGIN:DAYLIGHT
TZOFFSETFROM:+0100
TZOFFSETTO:+0200
TZNAME:CEST
DTSTART:20250330T010000
END:DAYLIGHT
BEGIN:STANDARD
TZOFFSETFROM:+0200
TZOFFSETTO:+0100
TZNAME:CET
DTSTART:20251026T010000
END:STANDARD
BEGIN:DAYLIGHT
TZOFFSETFROM:+0100
TZOFFSETTO:+0200
TZNAME:CEST
DTSTART:20260329T010000
END:DAYLIGHT
BEGIN:STANDARD
TZOFFSETFROM:+0200
TZOFFSETTO:+0100
TZNAME:CET
DTSTART:20261025T010000
END:STANDARD
END:VTIMEZONE
BEGIN:VEVENT
DTSTART;TZID=Europe/Paris:20250203T190000
DTEND;TZID=Europe/Paris:20250203T210000
DTSTAMP:20260424T153521
CREATED:20250128T083649Z
LAST-MODIFIED:20250128T083649Z
UID:7490-1738609200-1738616400@ateneodegranada.com
SUMMARY:CONFERENCIA | Balcanes\, la maqueta del mundo
DESCRIPTION:📜 Conferencia: Balcanes\, la maqueta del mundo \n👉 Descubre los retos de la paz en los Balcanes.\nUn fascinante análisis sobre los conflictos y la reconstrucción en los países post-yugoslavos. Contaremos con José Ángel Ruiz Jiménez\, experto en Historia Contemporánea y director del Instituto de la Paz y los Conflictos de la UGR.\n📅 Lunes\, 3 de febrero de 2025\n🕖 19:00 h\n📍 Sede del Ateneo de Granada (C/ Martín Bohórquez\, 30)\n🎟 Entrada libre hasta completar aforo.
URL:https://ateneodegranada.com/event/conferencia-balcanes-la-maqueta-del-mundo/
LOCATION:Ateneo de Granada\, C/Martín Bohórquez\, 30\, Granada\, Granada\, 18005\, Spain
CATEGORIES:Ateneo de Granada,Ciclo de conferencias,Conferencia
ATTACH;FMTTYPE=image/jpeg:https://ateneodegranada.com/wp-content/uploads/2025/01/photo_2025-01-28_08-42-51.jpg
END:VEVENT
BEGIN:VEVENT
DTSTART;TZID=Europe/Paris:20250204T190000
DTEND;TZID=Europe/Paris:20250204T203000
DTSTAMP:20260424T153521
CREATED:20250131T191139Z
LAST-MODIFIED:20250131T191139Z
UID:7503-1738695600-1738701000@ateneodegranada.com
SUMMARY:AULA DE MAYORES | El cuadro de Rubens "El nacimiento de la Vía Láctea"
DESCRIPTION:🎨 El cuadro de Rubens “El nacimiento de la Vía Láctea” \nUna pincelada de mitología\, un toque de simbolismo y la maestría de Rubens en su máxima expresión. “El nacimiento de la Vía Láctea” es mucho más que una pintura: es un relato visual del arte barroco. María Teresa Hontoria Puentes nos guiará a través de su historia y significado. \n📅 Martes\, 4 de febrero – 19:00\n📍 Sede del Ateneo de Granada (C/ Martín Bohórquez 30)\n🎙 Presenta: Mar Villafranca \n🔹 Entrada libre hasta completar aforo
URL:https://ateneodegranada.com/event/aula-de-mayores-el-cuadro-de-rubens-el-nacimiento-de-la-via-lactea/
LOCATION:Ateneo de Granada\, C/Martín Bohórquez\, 30\, Granada\, Granada\, 18005\, Spain
CATEGORIES:Ateneo de Granada,Aula de mayores,Granada 2031
ATTACH;FMTTYPE=image/jpeg:https://ateneodegranada.com/wp-content/uploads/2025/01/Imagen-de-WhatsApp-2025-01-31-a-las-19.45.26_c4dd4cc2.jpg
END:VEVENT
BEGIN:VEVENT
DTSTART;TZID=Europe/Paris:20250205T190000
DTEND;TZID=Europe/Paris:20250205T210000
DTSTAMP:20260424T153521
CREATED:20250128T084020Z
LAST-MODIFIED:20250128T084020Z
UID:7493-1738782000-1738789200@ateneodegranada.com
SUMMARY:PRESENTACIÓN | Darse brisa
DESCRIPTION:🎨 Presentación del libro: Darse brisa\, de Elena Laura \n🌟 Sumérgete en el mundo de Elena Laura.\nLa autora y pintora nos presentará su obra Darse brisa\, un libro cargado de creatividad y sensibilidad\, acompañada por la escritora y aforista Carmen Canet.\n📅 Miércoles\, 5 de febrero de 2025\n🕖 19:00 h\n📍 Sede del Ateneo de Granada (C/ Martín Bohórquez\, 30)\n🎟 Entrada libre hasta completar aforo.
URL:https://ateneodegranada.com/event/presentacion-darse-brisa/
LOCATION:Ateneo de Granada\, C/Martín Bohórquez\, 30\, Granada\, Granada\, 18005\, Spain
CATEGORIES:Ateneo de Granada,Lecturas del Ateneo,Presentación
ATTACH;FMTTYPE=image/jpeg:https://ateneodegranada.com/wp-content/uploads/2025/01/photo_2025-01-28_08-43-44.jpg
END:VEVENT
BEGIN:VEVENT
DTSTART;TZID=Europe/Paris:20250206T190000
DTEND;TZID=Europe/Paris:20250206T210000
DTSTAMP:20260424T153521
CREATED:20250128T084404Z
LAST-MODIFIED:20250128T084404Z
UID:7496-1738868400-1738875600@ateneodegranada.com
SUMMARY:CONFERENCIA | El suicidio como emergente social
DESCRIPTION:💬 Conferencia: El suicidio como emergente social \n🧠 Hablemos sobre salud mental y comunidad.\nExploraremos estrategias de prevención del suicidio desde el ámbito comunitario con Joan Carles March (profesor de la EASP) y Miguel Guerrero (psicólogo clínico). Presenta Emilio Sánchez-Cantalejo\, vocal del Ateneo de Granada.\n📅 Jueves\, 6 de febrero de 2025\n🕖 19:00 h\n📍 Sede del Ateneo de Granada (C/ Martín Bohórquez\, 30)\n🎟 Entrada libre hasta completar aforo.
URL:https://ateneodegranada.com/event/conferencia-el-suicidio-como-emergente-social/
LOCATION:Ateneo de Granada\, C/Martín Bohórquez\, 30\, Granada\, Granada\, 18005\, Spain
CATEGORIES:Ateneo de Granada,Conferencia,Sección de Salud y Sociedad
ATTACH;FMTTYPE=image/jpeg:https://ateneodegranada.com/wp-content/uploads/2025/01/photo_2025-01-28_08-44-29.jpg
END:VEVENT
BEGIN:VEVENT
DTSTART;TZID=Europe/Paris:20250207T190000
DTEND;TZID=Europe/Paris:20250207T213000
DTSTAMP:20260424T153521
CREATED:20250131T191455Z
LAST-MODIFIED:20250131T191455Z
UID:7506-1738954800-1738963800@ateneodegranada.com
SUMMARY:CONFERENCIA | Schoënberg y el humanismo en la Viena del cambio de siglo
DESCRIPTION:🎻 Schoënberg y el humanismo en la Viena del cambio de siglo \nArnold Schoënberg transformó la música del siglo XX\, pero también vivió una época de profundos cambios filosóficos\, artísticos y sociales. ¿Cómo influyó en su obra el humanismo vienés del cambio de siglo? Descúbrelo en esta conferencia con Miguel Gálvez Taroncher. \n📅 Viernes\, 7 de febrero – 19:00\n📍 Sede del Ateneo de Granada (C/ Martín Bohórquez 30)\n🎙 Presenta: Carmen Calero \n🔹 Entrada libre hasta completar aforo
URL:https://ateneodegranada.com/event/conferencia-schoenberg-y-el-humanismo-en-la-viena-del-cambio-de-siglo/
LOCATION:Ateneo de Granada\, C/Martín Bohórquez\, 30\, Granada\, Granada\, 18005\, Spain
CATEGORIES:Ateneo de Granada,Ciclo de conferencias,Ciclo de Música y Humanidades,Conferencia,Granada 2031
ATTACH;FMTTYPE=image/jpeg:https://ateneodegranada.com/wp-content/uploads/2025/01/Imagen-de-WhatsApp-2025-01-31-a-las-19.45.27_b5139775.jpg
END:VEVENT
BEGIN:VEVENT
DTSTART;TZID=Europe/Paris:20250211T183000
DTEND;TZID=Europe/Paris:20250211T200000
DTSTAMP:20260424T153521
CREATED:20250207T092636Z
LAST-MODIFIED:20250207T092636Z
UID:7509-1739298600-1739304000@ateneodegranada.com
SUMMARY:MESA REDONDA: Vivir a la intemperie
DESCRIPTION:🍽❄️ MESA REDONDA: VIVIR A LA INTEMPERIE\nEl desamparo tiene muchas formas. La pobreza es una de ellas.\n🗣 Reflexionamos sobre las versiones del desamparo con voces comprometidas con la realidad social. \n🗓 Martes 11 de febrero\, 18:30\n📍 Salón de Actos de la ONCE\, Plaza del Carmen \nIntervienen:\n🔹 Manuel Mingorance Carmona (Proyecto Hombre)\n🔹 Ignacio Pereda Pérez (Escuela de Solidaridad)\n🔹 Ana Sánchez Montoro (Fundación Calor y Café)\n🎤 Presenta: Jesús Ambel\, Presidente del Ateneo \n🤝 Un encuentro necesario. Entrada libre hasta completar aforo.
URL:https://ateneodegranada.com/event/mesa-redonda-vivir-a-la-intemperie/
LOCATION:Salón de actos de la ONCE\, Plaza del Carmen S/N\, Granada\, Granada\, 18009\, Spain
CATEGORIES:Ateneo de Granada,Banco de Alimentos,Mesa Redonda
ATTACH;FMTTYPE=image/jpeg:https://ateneodegranada.com/wp-content/uploads/2025/02/Imagen-de-WhatsApp-2025-02-06-a-las-21.36.03_fd2bd554.jpg
END:VEVENT
BEGIN:VEVENT
DTSTART;TZID=Europe/Paris:20250212T200000
DTEND;TZID=Europe/Paris:20250212T213000
DTSTAMP:20260424T153521
CREATED:20250207T092934Z
LAST-MODIFIED:20250207T112841Z
UID:7512-1739390400-1739395800@ateneodegranada.com
SUMMARY:PRESENTACIÓN | Piedra que mengua\, de Marina Tapia
DESCRIPTION:✨ CUANDO LA POESÍA ES TALLA Y ECO\nLas piedras menguan\, pero la palabra crece.\n📖 Marina Tapia nos entrega Piedra que mengua\, Premio XL Certamen Poético Ángel Martínez Baigorri. \n🗓 Miércoles 12 de febrero\, 20:00\n📍 Sede del Ateneo de Granada \nPresenta Virgilio Cara y coordina María Bueno. \n💫 Una velada de versos que resisten el tiempo. Entrada libre hasta completar aforo.
URL:https://ateneodegranada.com/event/presentacion-piedra-que-mengua-de-marina-tapia/
LOCATION:Ateneo de Granada\, C/Martín Bohórquez\, 30\, Granada\, Granada\, 18005\, Spain
CATEGORIES:Ateneo de Granada,Granada 2031,Lecturas del Ateneo,Presentación
ATTACH;FMTTYPE=image/jpeg:https://ateneodegranada.com/wp-content/uploads/2025/02/photo_2025-02-07_12-27-58.jpg
END:VEVENT
BEGIN:VEVENT
DTSTART;TZID=Europe/Paris:20250214T190000
DTEND;TZID=Europe/Paris:20250214T203000
DTSTAMP:20260424T153521
CREATED:20250207T093122Z
LAST-MODIFIED:20250207T093122Z
UID:7515-1739559600-1739565000@ateneodegranada.com
SUMMARY:PRESENTACIÓN | Parada biológica\, de Joaquín Moreno Marchal
DESCRIPTION:📖✨ LECTURAS DEL ATENEO: UN RELATO SOBRE LA REINVENCIÓN\nEl confinamiento detuvo el mundo\, pero no la imaginación.\n🔬📚 Parada biológica\, de Joaquín Moreno Marchal\, es un testimonio de cómo la vida se transforma en los momentos más inesperados. \n🗓 Viernes 14 de febrero\, 19:00\n📍 Sede del Ateneo de Granada \nCon la intervención del autor y la presentación de Antonio Lara Ramos. \n🌿 Redescubre la pausa como oportunidad. Entrada libre hasta completar aforo.
URL:https://ateneodegranada.com/event/presentacion-parada-biologica-de-joaquin-moreno-marchal/
LOCATION:Ateneo de Granada\, C/Martín Bohórquez\, 30\, Granada\, Granada\, 18005\, Spain
CATEGORIES:Ateneo de Granada,Lecturas del Ateneo,Presentación
ATTACH;FMTTYPE=image/jpeg:https://ateneodegranada.com/wp-content/uploads/2025/02/Imagen-de-WhatsApp-2025-02-06-a-las-21.36.40_8b3ce681.jpg
END:VEVENT
BEGIN:VEVENT
DTSTART;TZID=Europe/Paris:20250217T190000
DTEND;TZID=Europe/Paris:20250217T203000
DTSTAMP:20260424T153521
CREATED:20250212T113939Z
LAST-MODIFIED:20250212T113939Z
UID:7528-1739818800-1739824200@ateneodegranada.com
SUMMARY:MESA DE DEBATE | Granada y sus infraestructuras culturales. Necesidades y propuestas.
DESCRIPTION:🗣 MESA DE DEBATE: Granada y sus infraestructuras culturales. Necesidades y propuestas. \n📅 Lunes\, 17 de febrero de 2025\n🕖 19:00 h\n📍 Sede del Ateneo de Granada (C/ Martín Bohórquez 30)\n🎟 Entrada libre hasta completar aforo \n🔎 Hablamos de cultura\, de espacios\, de futuro. ¿Qué necesita Granada para brillar como Capital Europea de la Cultura 2031? 🤔 Ven a debatir con expertos que saben cómo hacer que nuestra ciudad marque la diferencia. \n🎤 Intervienen:\n✨ José Vallejo – Historiador del Arte y gestor cultural\n✨ Alfonso Salazar – Antropólogo\, escritor y gestor cultural\n🎙 Modera:\n✨ Mª del Mar Villafranca – Vocal de la Sección de Arte y Patrimonio del Ateneo de Granada \n💬 Un encuentro clave para repensar el presente y construir el futuro de la cultura en Granada. ¡Te esperamos! \n📢 #Granada2031 #CulturaGranada #AteneoDeGranada #InfraestructurasCulturales #GranadaEsCultura
URL:https://ateneodegranada.com/event/mesa-de-debate-granada-y-sus-infraestructuras-culturales-necesidades-y-propuestas/
LOCATION:Ateneo de Granada\, C/Martín Bohórquez\, 30\, Granada\, Granada\, 18005\, Spain
CATEGORIES:Ateneo de Granada,Debates del Ateneo,Granada 2031,Sección Arte y Patrimonio
ATTACH;FMTTYPE=image/jpeg:https://ateneodegranada.com/wp-content/uploads/2025/02/Imagen-de-WhatsApp-2025-02-12-a-las-10.33.13_e3234aee.jpg
END:VEVENT
BEGIN:VEVENT
DTSTART;TZID=Europe/Paris:20250219T200000
DTEND;TZID=Europe/Paris:20250219T213000
DTSTAMP:20260424T153521
CREATED:20250212T175721Z
LAST-MODIFIED:20250212T175721Z
UID:7533-1739995200-1740000600@ateneodegranada.com
SUMMARY:POESÍA A CIELO ABIERTO
DESCRIPTION:🌿📖✨ POESÍA A CIELO ABIERTO ✨📖🌿 \nEl Ateneo de Granada te invita a una velada donde la palabra se alza libre\, sin muros ni fronteras. Virgilio Cara\, poeta y miembro de la Academia de Buenas Letras\, desplegará versos como alas al viento. Le acompaña en la presentación Juan Carlos Friebe\, otro gran tejedor de emociones en tinta. \n📅 Miércoles\, 19 de febrero de 2025\n🕗 20:00 h\n📍 Sede del Ateneo (C/ Martín Bohórquez\, 30)\n🎟 Entrada libre \nPorque la poesía es un arte sin jaulas… ¿te lo vas a perder? 😉
URL:https://ateneodegranada.com/event/poesia-a-cielo-abierto-2/
LOCATION:Ateneo de Granada\, C/Martín Bohórquez\, 30\, Granada\, Granada\, 18005\, Spain
CATEGORIES:Ateneo de Granada,Poesía a cielo abierto
ATTACH;FMTTYPE=image/jpeg:https://ateneodegranada.com/wp-content/uploads/2025/02/Imagen-de-WhatsApp-2025-02-12-a-las-12.40.02_8980de9b.jpg
END:VEVENT
BEGIN:VEVENT
DTSTART;TZID=Europe/Paris:20250220T190000
DTEND;TZID=Europe/Paris:20250220T210000
DTSTAMP:20260424T153521
CREATED:20250212T180119Z
LAST-MODIFIED:20250212T180119Z
UID:7536-1740078000-1740085200@ateneodegranada.com
SUMMARY:PRESENTACIÓN | Trilogía del presente
DESCRIPTION:📚✨ LECTURAS DEL ATENEO ✨📚 \nEl tiempo se enreda en las páginas de Trilogía del presente\, la nueva obra de Claudia Capel. Una invitación a reflexionar sobre lo que somos\, lo que fuimos y lo que podríamos ser. Acompañada por Virginia Reguera y Tere Martínez-Cañavate\, la autora nos guiará por los rincones de su narrativa. \n📅 Jueves\, 20 de febrero de 2025\n🕖 19:00 h\n📍 Sede del Ateneo (C/ Martín Bohórquez\, 30)\n🎟 Entrada libre hasta completar aforo \nUna cita con la literatura que no puedes dejar escapar. ¡Nos vemos allí! 😉
URL:https://ateneodegranada.com/event/presentacion-trilogia-del-presente/
LOCATION:Ateneo de Granada\, C/Martín Bohórquez\, 30\, Granada\, Granada\, 18005\, Spain
CATEGORIES:Ateneo de Granada,Lecturas del Ateneo
ATTACH;FMTTYPE=image/jpeg:https://ateneodegranada.com/wp-content/uploads/2025/02/Imagen-de-WhatsApp-2025-02-12-a-las-12.40.03_071bbfaf.jpg
END:VEVENT
BEGIN:VEVENT
DTSTART;TZID=Europe/Paris:20250221T190000
DTEND;TZID=Europe/Paris:20250221T210000
DTSTAMP:20260424T153521
CREATED:20250212T180556Z
LAST-MODIFIED:20250212T180556Z
UID:7539-1740164400-1740171600@ateneodegranada.com
SUMMARY:CHARLA-DEBATE | Recuperación de nuestra vega: Usos agrícolas e identidad colectiva frente a su destrucción
DESCRIPTION:🌱🌾 RECUPERACIÓN DE NUESTRA VEGA 🌾🌱\nUsos agrícolas e identidad colectiva frente a su destrucción \nLa Vega de Granada es historia\, cultura y sustento. Pero ¿qué futuro le espera? 🌍💭 En esta charla-debate\, expertos y activistas reflexionarán sobre cómo proteger este bien común ante las amenazas que la acechan. \n🎤 Intervienen:\n🔹 Paco Cáceres Santiago – Asociación Somos Vega. Somos Tierra\n🔹 Pilar Merlos – Agrónoma\, especializada en Agricultura Ecológica y Medioambiente (Somos Vega. Somos Tierra)\n🎙 Presenta: Colectivo Que Corra el Agua – Dílar\n📢 Coordina: Elena Gonzalo \n📅 Viernes\, 21 de febrero de 2025\n🕖 19:00 h\n📍 Sede del Ateneo (C/ Martín Bohórquez\, 30 – Paralela a Alhamar)\n🎟 Entrada libre hasta completar aforo \nPorque la tierra que nos alimenta también nos necesita. 🌾💚 ¡Te esperamos!
URL:https://ateneodegranada.com/event/charla-debate-recuperacion-de-nuestra-vega-usos-agricolas-e-identidad-colectiva-frente-a-su-destruccion/
LOCATION:Ateneo de Granada\, C/Martín Bohórquez\, 30\, Granada\, Granada\, 18005\, Spain
CATEGORIES:Ateneo de Granada,Sección Emergencia Climática
ATTACH;FMTTYPE=image/jpeg:https://ateneodegranada.com/wp-content/uploads/2025/02/Imagen-de-WhatsApp-2025-02-12-a-las-12.40.03_e0552f67.jpg
END:VEVENT
BEGIN:VEVENT
DTSTART;TZID=Europe/Paris:20250224T193000
DTEND;TZID=Europe/Paris:20250224T213000
DTSTAMP:20260424T153521
CREATED:20250218T130602Z
LAST-MODIFIED:20250218T130602Z
UID:7542-1740425400-1740432600@ateneodegranada.com
SUMMARY:PRESENTACIÓN | La guarida inútil\, de Álvaro Salvador
DESCRIPTION:Presentación del poemario “La guarida inútil” de Álvaro Salvador \n📖 Lecturas del Ateneo presenta:\n💫 La guarida inútil\, poesía reunida (1970-2023) de Álvaro Salvador. \n📅 Lunes 24 de febrero de 2025\n🕢 19:30 h\n📍 Sede del Ateneo (C/ Martín Bohórquez 30) \n🎤 Interviene: Álvaro Salvador\, poeta.\n📚 Presentan: Nacho Garmendia\, Gracias Morales y Francisco Díaz.\n🎶 Cierra el acto: Juan Pinilla.\n🎙 Coordina: Elena Gonzalo. \n🎟 Entrada libre hasta completar aforo. \n📢 No te pierdas esta velada de poesía y emoción en el Ateneo de Granada. ¡Te esperamos! ✍️📖
URL:https://ateneodegranada.com/event/presentacion-la-guarida-inutil-de-alvaro-salvador/
LOCATION:Ateneo de Granada\, C/Martín Bohórquez\, 30\, Granada\, Granada\, 18005\, Spain
CATEGORIES:Ateneo de Granada,Lecturas del Ateneo,Presentación
ATTACH;FMTTYPE=image/jpeg:https://ateneodegranada.com/wp-content/uploads/2025/02/Imagen-de-WhatsApp-2025-02-18-a-las-14.01.36_03298929.jpg
END:VEVENT
BEGIN:VEVENT
DTSTART;TZID=Europe/Paris:20250226T100000
DTEND;TZID=Europe/Paris:20250226T143000
DTSTAMP:20260424T153521
CREATED:20250218T130910Z
LAST-MODIFIED:20250218T130910Z
UID:7545-1740564000-1740580200@ateneodegranada.com
SUMMARY:AULA DE MAYORES | Visita guiada al Colegio Máximo
DESCRIPTION:Aula de Mayores: Visita guiada al Colegio Máximo \n🔎 Descubre el Colegio Máximo con una visita guiada especial para el Aula de Mayores del Ateneo de Granada. 🏛 \n📅 Miércoles 26 de febrero\n🕙 10:00 h\n📍 Punto de encuentro: Puerta del Colegio Máximo\, Campus Universitario de La Cartuja. \n👥 Plazas limitadas (30)\, por orden de inscripción en 📧 ateneodegranadasecretario@gmail.com.\n🔹 Prioridad para socios hasta el 20 de febrero. No socios\, a partir de esa fecha hasta completar el grupo. \n🔗 Organizan: Ateneo de Granada\, Universidad de Granada\, Ayuntamiento de Granada y Fundación “la Caixa”. \n📢 ¡No te quedes sin tu plaza! 🚶‍♂️🎓
URL:https://ateneodegranada.com/event/aula-de-mayores-visita-guiada-al-colegio-maximo/
LOCATION:Colegio Máximo\, Campus Universitario de Cartuja\, s/n\, 18011 Granada\, Granada\, Granada\, 18011\, Spain
CATEGORIES:Ateneo de Granada,Aula de mayores,Visita guiada
ATTACH;FMTTYPE=image/jpeg:https://ateneodegranada.com/wp-content/uploads/2025/02/Imagen-de-WhatsApp-2025-02-17-a-las-10.55.20_bd106469.jpg
END:VEVENT
END:VCALENDAR