BEGIN:VCALENDAR
VERSION:2.0
PRODID:-//Ateneo de Granada - ECPv6.15.20//NONSGML v1.0//EN
CALSCALE:GREGORIAN
METHOD:PUBLISH
X-WR-CALNAME:Ateneo de Granada
X-ORIGINAL-URL:https://ateneodegranada.com
X-WR-CALDESC:Eventos para Ateneo de Granada
REFRESH-INTERVAL;VALUE=DURATION:PT1H
X-Robots-Tag:noindex
X-PUBLISHED-TTL:PT1H
BEGIN:VTIMEZONE
TZID:Europe/Paris
BEGIN:DAYLIGHT
TZOFFSETFROM:+0100
TZOFFSETTO:+0200
TZNAME:CEST
DTSTART:20240331T010000
END:DAYLIGHT
BEGIN:STANDARD
TZOFFSETFROM:+0200
TZOFFSETTO:+0100
TZNAME:CET
DTSTART:20241027T010000
END:STANDARD
BEGIN:DAYLIGHT
TZOFFSETFROM:+0100
TZOFFSETTO:+0200
TZNAME:CEST
DTSTART:20250330T010000
END:DAYLIGHT
BEGIN:STANDARD
TZOFFSETFROM:+0200
TZOFFSETTO:+0100
TZNAME:CET
DTSTART:20251026T010000
END:STANDARD
BEGIN:DAYLIGHT
TZOFFSETFROM:+0100
TZOFFSETTO:+0200
TZNAME:CEST
DTSTART:20260329T010000
END:DAYLIGHT
BEGIN:STANDARD
TZOFFSETFROM:+0200
TZOFFSETTO:+0100
TZNAME:CET
DTSTART:20261025T010000
END:STANDARD
END:VTIMEZONE
BEGIN:VEVENT
DTSTART;TZID=Europe/Paris:20250918T210000
DTEND;TZID=Europe/Paris:20250918T230000
DTSTAMP:20260422T022051
CREATED:20250915T161931Z
LAST-MODIFIED:20250915T161931Z
UID:7859-1758229200-1758236400@ateneodegranada.com
SUMMARY:Poesía en el Jardín '25 – XV edición
DESCRIPTION:Poesía en el Jardín ’25 – XV edición\n📅 Jueves 18 de septiembre | 🕘 21:00 h\n📍 Cuarto Real de Santo Domingo \nSeguimos celebrando la palabra en nuestra cita poética de los jueves. Esta semana contaremos con la lectura de Maite Gómez Molina\, joven voz imprescindible del panorama actual\, acompañada del talento musical de Ricardo Márquez\, que pondrá el broche sonoro a la velada. \nUna oportunidad para disfrutar de la poesía y la música en un entorno único. \nOrganizan: @ateneodegranada\, @centroandaluzdelasletras\, Ayuntamiento de Granada\, Granada 2031\, Universidad de Granada\, Fundación José Manuel Lara\, Centro Lucini\, Cuarto Real de Santo Domingo y Corrala de Santiago.
URL:https://ateneodegranada.com/event/poesia-en-el-jardin-25-xv-edicion-2/
CATEGORIES:Recital poético
ATTACH;FMTTYPE=image/jpeg:https://ateneodegranada.com/wp-content/uploads/2025/09/poes-cuadrado-insta4.jpg
END:VEVENT
BEGIN:VEVENT
DTSTART;TZID=Europe/Paris:20250925T210000
DTEND;TZID=Europe/Paris:20250925T210000
DTSTAMP:20260422T022051
CREATED:20250918T105835Z
LAST-MODIFIED:20250918T105940Z
UID:7869-1758834000-1758834000@ateneodegranada.com
SUMMARY:Poesía en el Jardín ’25 – XV edición
DESCRIPTION:📚🌿 Finaliza el ciclo Poesía en el Jardín ’25 con una sesión muy especial. El próximo jueves 25 de septiembre a las 21:00h\, el prestigioso poeta Felipe Benítez Reyes ofrecerá una lectura poética en el incomparable marco del Cuarto Real de Santo Domingo. \n🎶 Estará acompañado musicalmente por el talentoso guitarrista Francisco Cifuentes\, que pondrá el broche sonoro a esta XV edición llena de poesía\, música y emoción. \nUna ocasión única para despedir este ciclo en una noche que promete belleza y profundidad. \n📍 Entrada libre hasta completar aforo🕘 Jueves 25 | 21:00h📌 Cuarto Real de Santo Domingo \nOrganizan:📖 @ateneodegranada📖 @andaluzletras📖 Ayuntamiento de Granada📖 @granada2031📖 Universidad de Granada📖 Corrala de Santiago📖 Fundación José Manuel Lara📖 Centro Lucini📖 Cuarto Real de Santo Domingo
URL:https://ateneodegranada.com/event/poesia-en-el-jardin/
CATEGORIES:Recital poético
ATTACH;FMTTYPE=image/jpeg:https://ateneodegranada.com/wp-content/uploads/2025/09/poes-cuadrado-insta-logo-centenario5-2-2-scaled.jpg
END:VEVENT
END:VCALENDAR