BEGIN:VCALENDAR
VERSION:2.0
PRODID:-//Ateneo de Granada - ECPv6.15.20//NONSGML v1.0//EN
CALSCALE:GREGORIAN
METHOD:PUBLISH
X-WR-CALNAME:Ateneo de Granada
X-ORIGINAL-URL:https://ateneodegranada.com
X-WR-CALDESC:Eventos para Ateneo de Granada
REFRESH-INTERVAL;VALUE=DURATION:PT1H
X-Robots-Tag:noindex
X-PUBLISHED-TTL:PT1H
BEGIN:VTIMEZONE
TZID:Europe/Paris
BEGIN:DAYLIGHT
TZOFFSETFROM:+0100
TZOFFSETTO:+0200
TZNAME:CEST
DTSTART:20250330T010000
END:DAYLIGHT
BEGIN:STANDARD
TZOFFSETFROM:+0200
TZOFFSETTO:+0100
TZNAME:CET
DTSTART:20251026T010000
END:STANDARD
BEGIN:DAYLIGHT
TZOFFSETFROM:+0100
TZOFFSETTO:+0200
TZNAME:CEST
DTSTART:20260329T010000
END:DAYLIGHT
BEGIN:STANDARD
TZOFFSETFROM:+0200
TZOFFSETTO:+0100
TZNAME:CET
DTSTART:20261025T010000
END:STANDARD
BEGIN:DAYLIGHT
TZOFFSETFROM:+0100
TZOFFSETTO:+0200
TZNAME:CEST
DTSTART:20270328T010000
END:DAYLIGHT
BEGIN:STANDARD
TZOFFSETFROM:+0200
TZOFFSETTO:+0100
TZNAME:CET
DTSTART:20271031T010000
END:STANDARD
END:VTIMEZONE
BEGIN:VEVENT
DTSTART;TZID=Europe/Paris:20260424T080000
DTEND;TZID=Europe/Paris:20260424T170000
DTSTAMP:20260424T163551
CREATED:20260424T074709Z
LAST-MODIFIED:20260424T074709Z
UID:8629-1777017600-1777050000@ateneodegranada.com
SUMMARY:📚 Feria del Libro de Granada 2026
DESCRIPTION:El Ateneo de Granada presenta su programa de actividades\, una semana dedicada a la literatura\, el pensamiento y el encuentro con autores. \n🗓 Del 24 al 30 de abril\n📍 Diferentes espacios: Sala Zaida\, Pabellón Fundación Caja Rural y Sede del Ateneo \nMesas redondas\, presentaciones de libros y diálogos en torno a la creación literaria\, la educación\, el viaje y la memoria. \nUna programación pensada para acercar la cultura a la ciudadanía y celebrar el libro como espacio de reflexión y encuentro.
URL:https://ateneodegranada.com/event/%f0%9f%93%9a-feria-del-libro-de-granada-2026-4/
CATEGORIES:Feria del Libro 2026
ATTACH;FMTTYPE=image/jpeg:https://ateneodegranada.com/wp-content/uploads/2026/04/WhatsApp-Image-2026-04-24-at-08.43.49-3.jpeg
END:VEVENT
BEGIN:VEVENT
DTSTART;TZID=Europe/Paris:20260426T203000
DTEND;TZID=Europe/Paris:20260426T220000
DTSTAMP:20260424T163551
CREATED:20260424T073650Z
LAST-MODIFIED:20260424T073650Z
UID:8618-1777235400-1777240800@ateneodegranada.com
SUMMARY:📚 Feria del Libro de Granada 2026
DESCRIPTION:El Ateneo de Granada participa con la mesa redonda: \n“Viajeros y viajeras por Granada” \nUn encuentro para compartir miradas\, experiencias y relatos en torno al viaje y su vínculo con nuestra ciudad. \n🗣 Intervienen:\nMíriam López-Burgos del Barrio\nJosé Ruiz Mas\nMaría Bueno Martínez \n🎤 Modera: Antonio Lara Ramos \n📍 Pabellón Fundación Caja Rural Granada\n🗓 Domingo\, 26 de abril\n🕣 20:30 h \nActividad promovida por la Diputación de Granada y el Ateneo de Granada\, dentro de la programación de la Feria del Libro.
URL:https://ateneodegranada.com/event/%f0%9f%93%9a-feria-del-libro-de-granada-2026/
CATEGORIES:Feria del Libro 2026
END:VEVENT
BEGIN:VEVENT
DTSTART;TZID=Europe/Paris:20260427T193000
DTEND;TZID=Europe/Paris:20260427T213000
DTSTAMP:20260424T163551
CREATED:20260424T073410Z
LAST-MODIFIED:20260424T073410Z
UID:8609-1777318200-1777325400@ateneodegranada.com
SUMMARY:📖 Feria del Libro de Granada 2026
DESCRIPTION:El Ateneo de Granada acoge la presentación de la novela: \n“Cuando el mar guarda silencio”\, de Antonio Tapia Gómez \nUna cita con la literatura negra que invita a sumergirse en una historia cargada de misterio\, tensión y atmósferas envolventes. \n📚 Presenta: María Bueno \n📍 Sede del Ateneo\nC/ Martín Bohórquez\, 30\n🗓 Lunes\, 27 de abril\n🕖 19:30 h \nDentro de la programación especial del Ateneo en la Feria del Libro de Granada.
URL:https://ateneodegranada.com/event/%f0%9f%93%96-feria-del-libro-de-granada-2026/
LOCATION:Ateneo de Granada\, C/Martín Bohórquez\, 30\, Granada\, Granada\, 18005\, Spain
CATEGORIES:Feria del Libro 2026
ATTACH;FMTTYPE=image/jpeg:https://ateneodegranada.com/wp-content/uploads/2026/04/WhatsApp-Image-2026-04-24-at-08.43.48-1.jpeg
END:VEVENT
BEGIN:VEVENT
DTSTART;TZID=Europe/Paris:20260428T193000
DTEND;TZID=Europe/Paris:20260428T210000
DTSTAMP:20260424T163551
CREATED:20260424T073830Z
LAST-MODIFIED:20260424T073830Z
UID:8620-1777404600-1777410000@ateneodegranada.com
SUMMARY:📖 Feria del Libro de Granada 2026
DESCRIPTION:El Ateneo de Granada acoge la presentación de la novela: \n“Luchadoras. Memoria de una deshonra saldada”\, de Jorge Carrillo \nUna obra que recupera memoria\, dignidad y voces silenciadas\, invitando a la reflexión sobre nuestra historia reciente. \n📚 Presentan: Antonio Lara y Soco Robles \n📍 Sede del Ateneo\nC/ Martín Bohórquez\, 30\n🗓 Martes\, 28 de abril\n🕖 19:30 h \nDentro de la programación especial del Ateneo en la Feria del Libro de Granada.
URL:https://ateneodegranada.com/event/%f0%9f%93%96-feria-del-libro-de-granada-2026-2/
LOCATION:Ateneo de Granada\, C/Martín Bohórquez\, 30\, Granada\, Granada\, 18005\, Spain
CATEGORIES:Feria del Libro 2026
ATTACH;FMTTYPE=image/jpeg:https://ateneodegranada.com/wp-content/uploads/2026/04/WhatsApp-Image-2026-04-24-at-08.43.49.jpeg
END:VEVENT
BEGIN:VEVENT
DTSTART;TZID=Europe/Paris:20260429T193000
DTEND;TZID=Europe/Paris:20260429T210000
DTSTAMP:20260424T163551
CREATED:20260424T074033Z
LAST-MODIFIED:20260424T074033Z
UID:8622-1777491000-1777496400@ateneodegranada.com
SUMMARY:📚 Feria del Libro de Granada 2026
DESCRIPTION:El Ateneo de Granada organiza la mesa redonda: \n“Educación y Literatura” \nUn encuentro entre literatura y enseñanza a través de dos obras que miran de frente a la realidad educativa: \n✍️ José Luis Enríquez\, autor de Casa Madre\n✍️ Daniel Morales\, autor de Crónica de un profesor de instituto \n🎙 Presenta: Antonio Lara Ramos \n📍 Sede del Ateneo\nC/ Martín Bohórquez\, 30\n🗓 Miércoles\, 29 de abril\n🕖 19:30 h \nUna cita para reflexionar sobre el papel de la educación desde la mirada literaria.
URL:https://ateneodegranada.com/event/%f0%9f%93%9a-feria-del-libro-de-granada-2026-2/
LOCATION:Ateneo de Granada\, C/Martín Bohórquez\, 30\, Granada\, Granada\, 18005\, Spain
CATEGORIES:Feria del Libro 2026
ATTACH;FMTTYPE=image/jpeg:https://ateneodegranada.com/wp-content/uploads/2026/04/WhatsApp-Image-2026-04-24-at-08.43.49-1.jpeg
END:VEVENT
BEGIN:VEVENT
DTSTART;TZID=Europe/Paris:20260430T193000
DTEND;TZID=Europe/Paris:20260430T213000
DTSTAMP:20260424T163551
CREATED:20260424T074537Z
LAST-MODIFIED:20260424T074537Z
UID:8627-1777577400-1777584600@ateneodegranada.com
SUMMARY:📚 Feria del Libro de Granada 2026
DESCRIPTION:El Ateneo de Granada acoge la presentación de los libros: \n“Misterios granadinos al calor de la lumbre”\ny\n“La Granada fantasmagórica” \nDos obras que invitan a descubrir el lado más enigmático y fascinante de la ciudad. \n✍️ Autor: José Carlos García\n🎙 Presenta: Antonio Lara Ramos \n📍 Sede del Ateneo\nC/ Martín Bohórquez\, 30\n🗓 Jueves\, 30 de abril\n🕖 19:30 h \nUna cita con el misterio\, la historia y las historias ocultas de Granada.
URL:https://ateneodegranada.com/event/%f0%9f%93%9a-feria-del-libro-de-granada-2026-3/
LOCATION:Ateneo de Granada\, C/Martín Bohórquez\, 30\, Granada\, Granada\, 18005\, Spain
CATEGORIES:Feria del Libro 2026
ATTACH;FMTTYPE=image/jpeg:https://ateneodegranada.com/wp-content/uploads/2026/04/WhatsApp-Image-2026-04-24-at-08.43.49-2.jpeg
END:VEVENT
END:VCALENDAR