BEGIN:VCALENDAR
VERSION:2.0
PRODID:-//Ateneo de Granada - ECPv6.15.20//NONSGML v1.0//EN
CALSCALE:GREGORIAN
METHOD:PUBLISH
X-WR-CALNAME:Ateneo de Granada
X-ORIGINAL-URL:https://ateneodegranada.com
X-WR-CALDESC:Eventos para Ateneo de Granada
REFRESH-INTERVAL;VALUE=DURATION:PT1H
X-Robots-Tag:noindex
X-PUBLISHED-TTL:PT1H
BEGIN:VTIMEZONE
TZID:Europe/Paris
BEGIN:DAYLIGHT
TZOFFSETFROM:+0100
TZOFFSETTO:+0200
TZNAME:CEST
DTSTART:20250330T010000
END:DAYLIGHT
BEGIN:STANDARD
TZOFFSETFROM:+0200
TZOFFSETTO:+0100
TZNAME:CET
DTSTART:20251026T010000
END:STANDARD
BEGIN:DAYLIGHT
TZOFFSETFROM:+0100
TZOFFSETTO:+0200
TZNAME:CEST
DTSTART:20260329T010000
END:DAYLIGHT
BEGIN:STANDARD
TZOFFSETFROM:+0200
TZOFFSETTO:+0100
TZNAME:CET
DTSTART:20261025T010000
END:STANDARD
BEGIN:DAYLIGHT
TZOFFSETFROM:+0100
TZOFFSETTO:+0200
TZNAME:CEST
DTSTART:20270328T010000
END:DAYLIGHT
BEGIN:STANDARD
TZOFFSETFROM:+0200
TZOFFSETTO:+0100
TZNAME:CET
DTSTART:20271031T010000
END:STANDARD
END:VTIMEZONE
BEGIN:VEVENT
DTSTART;TZID=Europe/Paris:20260424T080000
DTEND;TZID=Europe/Paris:20260424T170000
DTSTAMP:20260424T163711
CREATED:20260424T074709Z
LAST-MODIFIED:20260424T074709Z
UID:8629-1777017600-1777050000@ateneodegranada.com
SUMMARY:📚 Feria del Libro de Granada 2026
DESCRIPTION:El Ateneo de Granada presenta su programa de actividades\, una semana dedicada a la literatura\, el pensamiento y el encuentro con autores. \n🗓 Del 24 al 30 de abril\n📍 Diferentes espacios: Sala Zaida\, Pabellón Fundación Caja Rural y Sede del Ateneo \nMesas redondas\, presentaciones de libros y diálogos en torno a la creación literaria\, la educación\, el viaje y la memoria. \nUna programación pensada para acercar la cultura a la ciudadanía y celebrar el libro como espacio de reflexión y encuentro.
URL:https://ateneodegranada.com/event/%f0%9f%93%9a-feria-del-libro-de-granada-2026-4/
CATEGORIES:Feria del Libro 2026
ATTACH;FMTTYPE=image/jpeg:https://ateneodegranada.com/wp-content/uploads/2026/04/WhatsApp-Image-2026-04-24-at-08.43.49-3.jpeg
END:VEVENT
END:VCALENDAR