BEGIN:VCALENDAR
VERSION:2.0
PRODID:-//Ateneo de Granada - ECPv6.15.20//NONSGML v1.0//EN
CALSCALE:GREGORIAN
METHOD:PUBLISH
X-WR-CALNAME:Ateneo de Granada
X-ORIGINAL-URL:https://ateneodegranada.com
X-WR-CALDESC:Eventos para Ateneo de Granada
REFRESH-INTERVAL;VALUE=DURATION:PT1H
X-Robots-Tag:noindex
X-PUBLISHED-TTL:PT1H
BEGIN:VTIMEZONE
TZID:Europe/Paris
BEGIN:DAYLIGHT
TZOFFSETFROM:+0100
TZOFFSETTO:+0200
TZNAME:CEST
DTSTART:20250330T010000
END:DAYLIGHT
BEGIN:STANDARD
TZOFFSETFROM:+0200
TZOFFSETTO:+0100
TZNAME:CET
DTSTART:20251026T010000
END:STANDARD
BEGIN:DAYLIGHT
TZOFFSETFROM:+0100
TZOFFSETTO:+0200
TZNAME:CEST
DTSTART:20260329T010000
END:DAYLIGHT
BEGIN:STANDARD
TZOFFSETFROM:+0200
TZOFFSETTO:+0100
TZNAME:CET
DTSTART:20261025T010000
END:STANDARD
BEGIN:DAYLIGHT
TZOFFSETFROM:+0100
TZOFFSETTO:+0200
TZNAME:CEST
DTSTART:20270328T010000
END:DAYLIGHT
BEGIN:STANDARD
TZOFFSETFROM:+0200
TZOFFSETTO:+0100
TZNAME:CET
DTSTART:20271031T010000
END:STANDARD
END:VTIMEZONE
BEGIN:VEVENT
DTSTART;TZID=Europe/Paris:20260423T190000
DTEND;TZID=Europe/Paris:20260423T210000
DTSTAMP:20260423T013352
CREATED:20260416T105237Z
LAST-MODIFIED:20260416T105237Z
UID:8603-1776970800-1776978000@ateneodegranada.com
SUMMARY:Secciones de Innovación y Tecnología · Ciencia y Sociedad · “Todo lo que usted quiere saber sobre los eclipses: el último eclipse de Sol andaluz”
DESCRIPTION:🌑 CONFERENCIA – TALLER \nSecciones de Innovación y Tecnología · Ciencia y Sociedad \nEl Ateneo de Granada presenta: \n“Todo lo que usted quiere saber sobre los eclipses: el último eclipse de Sol andaluz” \nUna oportunidad única para acercarse al fascinante fenómeno de los eclipses de la mano de Emilio J. Alfaro Navarro\, del Instituto de Astrofísica de Andalucía (IAA-CSIC). \n📖 Presenta: Hilario Ramírez Rodrigo \n📍 Sede del Ateneo \nC/ Martín Bohórquez\, 30 \n🗓 23 de abril de 2026 \n🕖 19:00 h \nUna cita imprescindible para descubrir la ciencia que hay detrás de uno de los espectáculos más sorprendentes del cielo.
URL:https://ateneodegranada.com/event/secciones-de-innovacion-y-tecnologia-%c2%b7-ciencia-y-sociedad-%c2%b7-todo-lo-que-usted-quiere-saber-sobre-los-eclipses-el-ultimo-eclipse-de-sol-andaluz/
LOCATION:Ateneo de Granada\, C/Martín Bohórquez\, 30\, Granada\, Granada\, 18005\, Spain
ATTACH;FMTTYPE=image/jpeg:https://ateneodegranada.com/wp-content/uploads/2026/04/WhatsApp-Image-2026-04-16-at-11.26.54.jpeg
END:VEVENT
END:VCALENDAR