BEGIN:VCALENDAR
VERSION:2.0
PRODID:-//Ateneo de Granada - ECPv6.15.20//NONSGML v1.0//EN
CALSCALE:GREGORIAN
METHOD:PUBLISH
X-WR-CALNAME:Ateneo de Granada
X-ORIGINAL-URL:https://ateneodegranada.com
X-WR-CALDESC:Eventos para Ateneo de Granada
REFRESH-INTERVAL;VALUE=DURATION:PT1H
X-Robots-Tag:noindex
X-PUBLISHED-TTL:PT1H
BEGIN:VTIMEZONE
TZID:Europe/Paris
BEGIN:DAYLIGHT
TZOFFSETFROM:+0100
TZOFFSETTO:+0200
TZNAME:CEST
DTSTART:20250330T010000
END:DAYLIGHT
BEGIN:STANDARD
TZOFFSETFROM:+0200
TZOFFSETTO:+0100
TZNAME:CET
DTSTART:20251026T010000
END:STANDARD
BEGIN:DAYLIGHT
TZOFFSETFROM:+0100
TZOFFSETTO:+0200
TZNAME:CEST
DTSTART:20260329T010000
END:DAYLIGHT
BEGIN:STANDARD
TZOFFSETFROM:+0200
TZOFFSETTO:+0100
TZNAME:CET
DTSTART:20261025T010000
END:STANDARD
BEGIN:DAYLIGHT
TZOFFSETFROM:+0100
TZOFFSETTO:+0200
TZNAME:CEST
DTSTART:20270328T010000
END:DAYLIGHT
BEGIN:STANDARD
TZOFFSETFROM:+0200
TZOFFSETTO:+0100
TZNAME:CET
DTSTART:20271031T010000
END:STANDARD
END:VTIMEZONE
BEGIN:VEVENT
DTSTART;TZID=Europe/Paris:20260421T190000
DTEND;TZID=Europe/Paris:20260421T210000
DTSTAMP:20260421T014349
CREATED:20260416T104840Z
LAST-MODIFIED:20260416T104840Z
UID:8599-1776798000-1776805200@ateneodegranada.com
SUMMARY:SECCIÓN SALUD Y SOCIEDAD · La salud mental y la democracia que tenemos
DESCRIPTION:🧠 SECCIÓN SALUD Y SOCIEDAD \nCiclo: La salud mental y la democracia que tenemos \nEl Ateneo de Granada acoge el conversatorio: \n“Bajas laborales y salud mental: la tormenta perfecta” \nUn espacio de análisis y diálogo sobre una de las realidades más urgentes de nuestro tiempo\, abordando la relación entre salud mental\, trabajo y sistema sanitario. \n🎙 Intervienen: \nMaría Jódar · Cándido Sánchez · Ana Távora \n🎤 Modera: Pedro González de Molina \n🎛 Coordina: Jesús Ambel \n📍 Sede del Ateneo \nC/ Martín Bohórquez\, 30 \n🗓 21 de abril \n🕖 19:00 h \n🎟 Entrada libre hasta completar aforo \nUna cita imprescindible para reflexionar sobre bienestar\, trabajo y sociedad.
URL:https://ateneodegranada.com/event/seccion-salud-y-sociedad-%c2%b7-la-salud-mental-y-la-democracia-que-tenemos/
LOCATION:Ateneo de Granada\, C/Martín Bohórquez\, 30\, Granada\, Granada\, 18005\, Spain
CATEGORIES:Sección de Salud y Sociedad
ATTACH;FMTTYPE=image/jpeg:https://ateneodegranada.com/wp-content/uploads/2026/04/WhatsApp-Image-2026-04-16-at-11.25.49.jpeg
END:VEVENT
END:VCALENDAR