BEGIN:VCALENDAR
VERSION:2.0
PRODID:-//Ateneo de Granada - ECPv6.15.20//NONSGML v1.0//EN
CALSCALE:GREGORIAN
METHOD:PUBLISH
X-WR-CALNAME:Ateneo de Granada
X-ORIGINAL-URL:https://ateneodegranada.com
X-WR-CALDESC:Eventos para Ateneo de Granada
REFRESH-INTERVAL;VALUE=DURATION:PT1H
X-Robots-Tag:noindex
X-PUBLISHED-TTL:PT1H
BEGIN:VTIMEZONE
TZID:Europe/Paris
BEGIN:DAYLIGHT
TZOFFSETFROM:+0100
TZOFFSETTO:+0200
TZNAME:CEST
DTSTART:20250330T010000
END:DAYLIGHT
BEGIN:STANDARD
TZOFFSETFROM:+0200
TZOFFSETTO:+0100
TZNAME:CET
DTSTART:20251026T010000
END:STANDARD
BEGIN:DAYLIGHT
TZOFFSETFROM:+0100
TZOFFSETTO:+0200
TZNAME:CEST
DTSTART:20260329T010000
END:DAYLIGHT
BEGIN:STANDARD
TZOFFSETFROM:+0200
TZOFFSETTO:+0100
TZNAME:CET
DTSTART:20261025T010000
END:STANDARD
BEGIN:DAYLIGHT
TZOFFSETFROM:+0100
TZOFFSETTO:+0200
TZNAME:CEST
DTSTART:20270328T010000
END:DAYLIGHT
BEGIN:STANDARD
TZOFFSETFROM:+0200
TZOFFSETTO:+0100
TZNAME:CET
DTSTART:20271031T010000
END:STANDARD
END:VTIMEZONE
BEGIN:VEVENT
DTSTART;TZID=Europe/Paris:20260420T193000
DTEND;TZID=Europe/Paris:20260420T213000
DTSTAMP:20260420T013906
CREATED:20260416T104647Z
LAST-MODIFIED:20260416T104647Z
UID:8592-1776713400-1776720600@ateneodegranada.com
SUMMARY:📚 Lecturas del Ateneo · “Los ojos abiertos –adagios–”\, de Juan Mata.
DESCRIPTION:📚 Lecturas del Ateneo \nSección Humanidades y Literatura \nEl Ateneo de Granada acoge la presentación del libro “Los ojos abiertos –adagios–”\, de Juan Mata. \nUn encuentro en torno a la palabra\, el pensamiento y la mirada crítica\, donde el autor estará acompañado por Irene de Haro\, Inmaculada López y Ernesto Páramo\, en un diálogo enriquecedor sobre la obra. \n📖 Presenta y coordina: María Bueno \n📍 Sede del Ateneo \nC/ Martín Bohórquez\, 30 \n🗓 20 de abril de 2026 \n🕖 19:30 h \n🎟 Entrada libre hasta completar aforo \nUna nueva cita con la literatura y la reflexión en el Ateneo de Granada.
URL:https://ateneodegranada.com/event/%f0%9f%93%9a-lecturas-del-ateneo-%c2%b7-los-ojos-abiertos-adagios-de-juan-mata/
LOCATION:Ateneo de Granada\, C/Martín Bohórquez\, 30\, Granada\, Granada\, 18005\, Spain
CATEGORIES:Lecturas del Ateneo
ATTACH;FMTTYPE=image/jpeg:https://ateneodegranada.com/wp-content/uploads/2026/04/WhatsApp-Image-2026-04-16-at-11.25.29.jpeg
END:VEVENT
END:VCALENDAR