BEGIN:VCALENDAR
VERSION:2.0
PRODID:-//Ateneo de Granada - ECPv6.15.20//NONSGML v1.0//EN
CALSCALE:GREGORIAN
METHOD:PUBLISH
X-ORIGINAL-URL:https://ateneodegranada.com
X-WR-CALDESC:Eventos para Ateneo de Granada
REFRESH-INTERVAL;VALUE=DURATION:PT1H
X-Robots-Tag:noindex
X-PUBLISHED-TTL:PT1H
BEGIN:VTIMEZONE
TZID:Europe/Paris
BEGIN:DAYLIGHT
TZOFFSETFROM:+0100
TZOFFSETTO:+0200
TZNAME:CEST
DTSTART:20240331T010000
END:DAYLIGHT
BEGIN:STANDARD
TZOFFSETFROM:+0200
TZOFFSETTO:+0100
TZNAME:CET
DTSTART:20241027T010000
END:STANDARD
BEGIN:DAYLIGHT
TZOFFSETFROM:+0100
TZOFFSETTO:+0200
TZNAME:CEST
DTSTART:20250330T010000
END:DAYLIGHT
BEGIN:STANDARD
TZOFFSETFROM:+0200
TZOFFSETTO:+0100
TZNAME:CET
DTSTART:20251026T010000
END:STANDARD
BEGIN:DAYLIGHT
TZOFFSETFROM:+0100
TZOFFSETTO:+0200
TZNAME:CEST
DTSTART:20260329T010000
END:DAYLIGHT
BEGIN:STANDARD
TZOFFSETFROM:+0200
TZOFFSETTO:+0100
TZNAME:CET
DTSTART:20261025T010000
END:STANDARD
BEGIN:DAYLIGHT
TZOFFSETFROM:+0100
TZOFFSETTO:+0200
TZNAME:CEST
DTSTART:20270328T010000
END:DAYLIGHT
BEGIN:STANDARD
TZOFFSETFROM:+0200
TZOFFSETTO:+0100
TZNAME:CET
DTSTART:20271031T010000
END:STANDARD
END:VTIMEZONE
BEGIN:VEVENT
DTSTART;VALUE=DATE:20251023
DTEND;VALUE=DATE:20260127
DTSTAMP:20260422T155555
CREATED:20251016T102143Z
LAST-MODIFIED:20251016T102143Z
UID:7935-1761177600-1769471999@ateneodegranada.com
SUMMARY:🗓️ Nuevo ciclo | Cincuenta años de libertad y democracia (1975–2025)
DESCRIPTION:🗓️ Nuevo ciclo | Cincuenta años de libertad y democracia (1975–2025)📚 Sección Institucional – Ateneo de Granada \nEste otoño-invierno iniciamos un ciclo conmemorativo que recorrerá los grandes hitos políticos\, sociales y culturales de las últimas cinco décadas en España. A través de conferencias\, mesas redondas y presentaciones de libros\, abordaremos la historia reciente desde múltiples perspectivas. \n📍 Sede Ateneo – C/ Martín Bohórquez\, 30🆓 Entrada libre hasta completar aforo \n🔻 PROGRAMACIÓN:\nOctubre 2025📖 23 oct. – Conversatorio sobre La sombra de Franco en la transición\, de Alfredo Grimaldos \nNoviembre 2025🗣️ 4 nov. – Miguel Ángel del Arco: La hambruna española que silenció el franquismo👩 20 nov. – Carmen Romero: Cincuenta años de la muerte de Franco\, un tiempo para las mujeres \nDiciembre 2025📜 9 dic. – Juan Montabes: La Constitución de 1978: un mismo texto para ciudadanos\, actores\, instituciones y procesos distintos👥 11 dic. – Mesa redonda: Enseñar y aprender la historia de España del último siglo en los jóvenes \nEnero 2026🌍 12 ene. – Manuel Titos: El largo camino desde la Autarquía hasta la Unión Europea🎭 26 ene. – Álvaro Salvador: Cultura en transición: cincuenta años de cultura en Granada (1975–2025) \n🖼 Imagen: Manifestación (1976)\, de Juan Vida📋 Coordinan: Antonio Lara Ramos y María Bueno Martínez
URL:https://ateneodegranada.com/event/%f0%9f%97%93%ef%b8%8f-nuevo-ciclo-cincuenta-anos-de-libertad-y-democracia-1975-2025/
LOCATION:Ateneo de Granada\, C/Martín Bohórquez\, 30\, Granada\, Granada\, 18005\, Spain
CATEGORIES:Ciclo de conferencias
ATTACH;FMTTYPE=image/jpeg:https://ateneodegranada.com/wp-content/uploads/2025/10/WhatsApp-Image-2025-10-16-at-10.23.08-2.jpeg
END:VEVENT
BEGIN:VEVENT
DTSTART;TZID=Europe/Paris:20251024T193000
DTEND;TZID=Europe/Paris:20251024T213000
DTSTAMP:20260422T155555
CREATED:20251016T103118Z
LAST-MODIFIED:20251016T103118Z
UID:7939-1761334200-1761341400@ateneodegranada.com
SUMMARY:📖 Presentación del libro Un siglo llamado invierno
DESCRIPTION:✍️ Francisco Morales Lomas📅 Viernes 24 de octubre · 🕢 19:30 h📍 Sede del Ateneo – C/ Martín Bohórquez\, 30🆓 Entrada libre hasta completar aforo \nEn esta nueva cita de Lecturas del Ateneo\, la sección institucional acoge la presentación de la novela Un siglo llamado invierno\, de Francisco Morales Lomas\, publicada por Editorial Esdrújula Ediciones. \n🔹 Intervienen:— Francisco Morales Lomas\, autor.— Fernando de Villena\, poeta\, narrador\, ensayista y académico de la Academia de Buenas Letras de Granada. \n🎙️ Coordina: Antonio Lara Ramos\, vicepresidente del Ateneo. \nUna velada literaria para descubrir una obra que entrelaza historia\, memoria y emoción.¡Te esperamos!
URL:https://ateneodegranada.com/event/%f0%9f%93%96-presentacion-del-libro-un-siglo-llamado-invierno/
LOCATION:Ateneo de Granada\, C/Martín Bohórquez\, 30\, Granada\, Granada\, 18005\, Spain
CATEGORIES:Lecturas del Ateneo
ATTACH;FMTTYPE=image/jpeg:https://ateneodegranada.com/wp-content/uploads/2025/10/WhatsApp-Image-2025-10-16-at-10.24.28.jpeg
END:VEVENT
END:VCALENDAR