BEGIN:VCALENDAR
VERSION:2.0
PRODID:-//Ateneo de Granada - ECPv6.15.20//NONSGML v1.0//EN
CALSCALE:GREGORIAN
METHOD:PUBLISH
X-ORIGINAL-URL:https://ateneodegranada.com
X-WR-CALDESC:Eventos para Ateneo de Granada
REFRESH-INTERVAL;VALUE=DURATION:PT1H
X-Robots-Tag:noindex
X-PUBLISHED-TTL:PT1H
BEGIN:VTIMEZONE
TZID:Europe/Paris
BEGIN:DAYLIGHT
TZOFFSETFROM:+0100
TZOFFSETTO:+0200
TZNAME:CEST
DTSTART:20240331T010000
END:DAYLIGHT
BEGIN:STANDARD
TZOFFSETFROM:+0200
TZOFFSETTO:+0100
TZNAME:CET
DTSTART:20241027T010000
END:STANDARD
BEGIN:DAYLIGHT
TZOFFSETFROM:+0100
TZOFFSETTO:+0200
TZNAME:CEST
DTSTART:20250330T010000
END:DAYLIGHT
BEGIN:STANDARD
TZOFFSETFROM:+0200
TZOFFSETTO:+0100
TZNAME:CET
DTSTART:20251026T010000
END:STANDARD
BEGIN:DAYLIGHT
TZOFFSETFROM:+0100
TZOFFSETTO:+0200
TZNAME:CEST
DTSTART:20260329T010000
END:DAYLIGHT
BEGIN:STANDARD
TZOFFSETFROM:+0200
TZOFFSETTO:+0100
TZNAME:CET
DTSTART:20261025T010000
END:STANDARD
END:VTIMEZONE
BEGIN:VEVENT
DTSTART;TZID=Europe/Paris:20251022T190000
DTEND;TZID=Europe/Paris:20251022T210000
DTSTAMP:20260422T185428
CREATED:20251016T101842Z
LAST-MODIFIED:20251016T101842Z
UID:7933-1761159600-1761166800@ateneodegranada.com
SUMMARY:🗣️ Conferencia | Ética democrática para una política republicana
DESCRIPTION:🗣️ Conferencia | Ética democrática para una política republicana📚 Ciclo: Ética \nEl miércoles 22 de octubre a las 19:00 h\, el Ateneo de Granada acoge una nueva cita del Ciclo sobre Ética con una conferencia imprescindible a cargo de José Antonio Pérez Tapias\, catedrático emérito de Filosofía de la Universidad de Granada. \nBajo el título “Ética democrática para una política republicana”\, se abordarán los fundamentos éticos necesarios para revitalizar la democracia desde una perspectiva republicana. \nPresenta: Manuel C. Peña Taveras. \n📍 Sede Ateneo – C/ Martín Bohórquez\, 30🗓️ Miércoles\, 22 de octubre de 2025🕖 19:00 h🎟️ Entrada libre hasta completar aforo
URL:https://ateneodegranada.com/event/%f0%9f%97%a3%ef%b8%8f-conferencia-etica-democratica-para-una-politica-republicana/
LOCATION:Ateneo de Granada\, C/Martín Bohórquez\, 30\, Granada\, Granada\, 18005\, Spain
CATEGORIES:Ciclo de conferencias
ATTACH;FMTTYPE=image/jpeg:https://ateneodegranada.com/wp-content/uploads/2025/10/WhatsApp-Image-2025-10-16-at-10.23.08-1.jpeg
END:VEVENT
END:VCALENDAR