BEGIN:VCALENDAR
VERSION:2.0
PRODID:-//Ateneo de Granada - ECPv6.15.20//NONSGML v1.0//EN
CALSCALE:GREGORIAN
METHOD:PUBLISH
X-ORIGINAL-URL:https://ateneodegranada.com
X-WR-CALDESC:Eventos para Ateneo de Granada
REFRESH-INTERVAL;VALUE=DURATION:PT1H
X-Robots-Tag:noindex
X-PUBLISHED-TTL:PT1H
BEGIN:VTIMEZONE
TZID:Europe/Paris
BEGIN:DAYLIGHT
TZOFFSETFROM:+0100
TZOFFSETTO:+0200
TZNAME:CEST
DTSTART:20240331T010000
END:DAYLIGHT
BEGIN:STANDARD
TZOFFSETFROM:+0200
TZOFFSETTO:+0100
TZNAME:CET
DTSTART:20241027T010000
END:STANDARD
BEGIN:DAYLIGHT
TZOFFSETFROM:+0100
TZOFFSETTO:+0200
TZNAME:CEST
DTSTART:20250330T010000
END:DAYLIGHT
BEGIN:STANDARD
TZOFFSETFROM:+0200
TZOFFSETTO:+0100
TZNAME:CET
DTSTART:20251026T010000
END:STANDARD
BEGIN:DAYLIGHT
TZOFFSETFROM:+0100
TZOFFSETTO:+0200
TZNAME:CEST
DTSTART:20260329T010000
END:DAYLIGHT
BEGIN:STANDARD
TZOFFSETFROM:+0200
TZOFFSETTO:+0100
TZNAME:CET
DTSTART:20261025T010000
END:STANDARD
END:VTIMEZONE
BEGIN:VEVENT
DTSTART;TZID=Europe/Paris:20251010T200000
DTEND;TZID=Europe/Paris:20251010T220000
DTSTAMP:20260423T110432
CREATED:20251002T150933Z
LAST-MODIFIED:20251002T150933Z
UID:7906-1760126400-1760133600@ateneodegranada.com
SUMMARY:📖 CONFERENCIA | Auletris. Una escritura –marginal– sobre las mujeres íberas
DESCRIPTION:📖 CONFERENCIA | Auletris. Una escritura –marginal– sobre las mujeres íberas \nEl Ateneo de Granada acoge una nueva cita del ciclo La novela de Granada\, con una propuesta literaria que profundiza en la escritura femenina olvidada de la antigüedad. \n👩‍🏫 Interviene:Nieves Chillón\, escritora y profesora de Lengua y Literatura \n🎙️ Presenta:Macarena Aguilar\, escritora y miembro del Club de Lectura Feminista de Huéscar \n📝 Coordina: María Bueno \n📍 Sede Ateneo – C/ Martín Bohórquez\, 30🗓️ Viernes 10 de octubre de 2025🕗 20:00 h \nUna mirada crítica y poética sobre las mujeres íberas a través de la palabra.
URL:https://ateneodegranada.com/event/%f0%9f%93%96-conferencia-auletris-una-escritura-marginal-sobre-las-mujeres-iberas/
LOCATION:Ateneo de Granada\, C/Martín Bohórquez\, 30\, Granada\, Granada\, 18005\, Spain
CATEGORIES:Conferencia
ATTACH;FMTTYPE=image/jpeg:https://ateneodegranada.com/wp-content/uploads/2025/10/WhatsApp-Image-2025-10-02-at-16.24.02.jpeg
END:VEVENT
END:VCALENDAR