BEGIN:VCALENDAR
VERSION:2.0
PRODID:-//Ateneo de Granada - ECPv6.15.20//NONSGML v1.0//EN
CALSCALE:GREGORIAN
METHOD:PUBLISH
X-ORIGINAL-URL:https://ateneodegranada.com
X-WR-CALDESC:Eventos para Ateneo de Granada
REFRESH-INTERVAL;VALUE=DURATION:PT1H
X-Robots-Tag:noindex
X-PUBLISHED-TTL:PT1H
BEGIN:VTIMEZONE
TZID:Europe/Paris
BEGIN:DAYLIGHT
TZOFFSETFROM:+0100
TZOFFSETTO:+0200
TZNAME:CEST
DTSTART:20240331T010000
END:DAYLIGHT
BEGIN:STANDARD
TZOFFSETFROM:+0200
TZOFFSETTO:+0100
TZNAME:CET
DTSTART:20241027T010000
END:STANDARD
BEGIN:DAYLIGHT
TZOFFSETFROM:+0100
TZOFFSETTO:+0200
TZNAME:CEST
DTSTART:20250330T010000
END:DAYLIGHT
BEGIN:STANDARD
TZOFFSETFROM:+0200
TZOFFSETTO:+0100
TZNAME:CET
DTSTART:20251026T010000
END:STANDARD
BEGIN:DAYLIGHT
TZOFFSETFROM:+0100
TZOFFSETTO:+0200
TZNAME:CEST
DTSTART:20260329T010000
END:DAYLIGHT
BEGIN:STANDARD
TZOFFSETFROM:+0200
TZOFFSETTO:+0100
TZNAME:CET
DTSTART:20261025T010000
END:STANDARD
END:VTIMEZONE
BEGIN:VEVENT
DTSTART;TZID=Europe/Paris:20251008T200000
DTEND;TZID=Europe/Paris:20251008T220000
DTSTAMP:20260423T140219
CREATED:20251002T150322Z
LAST-MODIFIED:20251007T090552Z
UID:7902-1759953600-1759960800@ateneodegranada.com
SUMMARY:Ciclo de conferencias: Personalidades del Ateneo
DESCRIPTION:📜 CICLO: Personalidades del Ateneo🔹 Conferencia inaugural \nEl nacimiento del Ateneo en 1925. José Pareja Garrido y la primera Junta de Gobierno \nCon motivo del centenario del Ateneo de Granada\, iniciamos un nuevo ciclo dedicado a las figuras clave de nuestra historia institucional. Abrimos con una conferencia centrada en los orígenes del Ateneo y el papel fundamental de José Pareja Garrido. \n👤 Interviene:Antonio Lara Ramos\, historiador y vicepresidente del Ateneo \n🎙️ Presenta:Mariluz Galisteo\, secretaria del Ateneo \n🗂️ Coordina:María del Mar Villafranca Jiménez \n📍 Sede del AteneoC/ Martín Bohórquez\, 30🗓️ Fecha: miércoles 8 de octubre de 2025🕗 Hora: 19.30h \nUna cita imprescindible para conocer mejor la historia del Ateneo y a quienes lo fundaron hace ya 100 años.
URL:https://ateneodegranada.com/event/ciclo-de-conferencias-personalidades-del-ateneo/
LOCATION:Ateneo de Granada\, C/Martín Bohórquez\, 30\, Granada\, Granada\, 18005\, Spain
CATEGORIES:Ciclo de conferencias: Personalidades del Ateneo
ATTACH;FMTTYPE=image/jpeg:https://ateneodegranada.com/wp-content/uploads/2025/10/08_10-personalidades-1.jpg
END:VEVENT
END:VCALENDAR