BEGIN:VCALENDAR
VERSION:2.0
PRODID:-//Ateneo de Granada - ECPv6.15.20//NONSGML v1.0//EN
CALSCALE:GREGORIAN
METHOD:PUBLISH
X-WR-CALNAME:Ateneo de Granada
X-ORIGINAL-URL:https://ateneodegranada.com
X-WR-CALDESC:Eventos para Ateneo de Granada
REFRESH-INTERVAL;VALUE=DURATION:PT1H
X-Robots-Tag:noindex
X-PUBLISHED-TTL:PT1H
BEGIN:VTIMEZONE
TZID:Europe/Paris
BEGIN:DAYLIGHT
TZOFFSETFROM:+0100
TZOFFSETTO:+0200
TZNAME:CEST
DTSTART:20240331T010000
END:DAYLIGHT
BEGIN:STANDARD
TZOFFSETFROM:+0200
TZOFFSETTO:+0100
TZNAME:CET
DTSTART:20241027T010000
END:STANDARD
BEGIN:DAYLIGHT
TZOFFSETFROM:+0100
TZOFFSETTO:+0200
TZNAME:CEST
DTSTART:20250330T010000
END:DAYLIGHT
BEGIN:STANDARD
TZOFFSETFROM:+0200
TZOFFSETTO:+0100
TZNAME:CET
DTSTART:20251026T010000
END:STANDARD
BEGIN:DAYLIGHT
TZOFFSETFROM:+0100
TZOFFSETTO:+0200
TZNAME:CEST
DTSTART:20260329T010000
END:DAYLIGHT
BEGIN:STANDARD
TZOFFSETFROM:+0200
TZOFFSETTO:+0100
TZNAME:CET
DTSTART:20261025T010000
END:STANDARD
END:VTIMEZONE
BEGIN:VEVENT
DTSTART;TZID=Europe/Paris:20250630T200000
DTEND;TZID=Europe/Paris:20250630T210000
DTSTAMP:20260424T094438
CREATED:20250620T103136Z
LAST-MODIFIED:20250620T103136Z
UID:7807-1751313600-1751317200@ateneodegranada.com
SUMMARY:PRESENTACIÓN | Un Lorca al año\, no hace daño
DESCRIPTION:📖 Un Lorca al año\, no hace daño🔸 Carmen Antón y La BarracaSección Humanidades | Ateneo de Granada \nEl próximo lunes 30 de junio a las 20:00h nos adentramos en la memoria viva de la cultura\, la guerra y el exilio con una mirada a la figura de Carmen Antón\, actriz de La Barraca y autora del emotivo testimonio Visto al pasar. \nIntervienen:✍️ Antonia Rodrigo\, escritora📚 Carolina Castillo Ferrer\, responsable de Biblioteca\, Archivo y Documentación de la Fundación Francisco Ayala🎓 Rosa Peralta\, profesora e investigadoraCoordina: María Bueno Martínez \n📍 Sede del Ateneo de GranadaC/ Martín Bohórquez 30🔓 Entrada libre hasta completar aforo. \nUna cita con la historia\, la literatura y las mujeres que la escribieron.#AteneoGranada #CarmenAntón #LaBarraca #Lorca #MemoriaHistórica #Granada2031 #UnLorcaAlAño #VistoAlPasar
URL:https://ateneodegranada.com/event/presentacion-un-lorca-al-ano-no-hace-dano/
LOCATION:Ateneo de Granada\, C/Martín Bohórquez\, 30\, Granada\, Granada\, 18005\, Spain
CATEGORIES:Ateneo de Granada,Presentación
ATTACH;FMTTYPE=image/jpeg:https://ateneodegranada.com/wp-content/uploads/2025/06/WhatsApp-Image-2025-06-20-at-11.49.11-1.jpeg
END:VEVENT
END:VCALENDAR