BEGIN:VCALENDAR
VERSION:2.0
PRODID:-//Ateneo de Granada - ECPv6.15.20//NONSGML v1.0//EN
CALSCALE:GREGORIAN
METHOD:PUBLISH
X-WR-CALNAME:Ateneo de Granada
X-ORIGINAL-URL:https://ateneodegranada.com
X-WR-CALDESC:Eventos para Ateneo de Granada
REFRESH-INTERVAL;VALUE=DURATION:PT1H
X-Robots-Tag:noindex
X-PUBLISHED-TTL:PT1H
BEGIN:VTIMEZONE
TZID:Europe/Paris
BEGIN:DAYLIGHT
TZOFFSETFROM:+0100
TZOFFSETTO:+0200
TZNAME:CEST
DTSTART:20240331T010000
END:DAYLIGHT
BEGIN:STANDARD
TZOFFSETFROM:+0200
TZOFFSETTO:+0100
TZNAME:CET
DTSTART:20241027T010000
END:STANDARD
BEGIN:DAYLIGHT
TZOFFSETFROM:+0100
TZOFFSETTO:+0200
TZNAME:CEST
DTSTART:20250330T010000
END:DAYLIGHT
BEGIN:STANDARD
TZOFFSETFROM:+0200
TZOFFSETTO:+0100
TZNAME:CET
DTSTART:20251026T010000
END:STANDARD
BEGIN:DAYLIGHT
TZOFFSETFROM:+0100
TZOFFSETTO:+0200
TZNAME:CEST
DTSTART:20260329T010000
END:DAYLIGHT
BEGIN:STANDARD
TZOFFSETFROM:+0200
TZOFFSETTO:+0100
TZNAME:CET
DTSTART:20261025T010000
END:STANDARD
END:VTIMEZONE
BEGIN:VEVENT
DTSTART;TZID=Europe/Paris:20250625T190000
DTEND;TZID=Europe/Paris:20250625T210000
DTSTAMP:20260424T111548
CREATED:20250620T103258Z
LAST-MODIFIED:20250620T103258Z
UID:7811-1750878000-1750885200@ateneodegranada.com
SUMMARY:Mesa redonda | Voluntariado y Candidatura a la Capitalidad Cultural Granada 2031
DESCRIPTION:🔴 Mesa redonda | Voluntariado y Candidatura a la Capitalidad Cultural Granada 2031 \n¿Cómo puede el voluntariado contribuir al éxito de la candidatura de Granada como Capital Europea de la Cultura 2031? En esta mesa redonda reunimos a profesionales del ámbito cultural\, social y académico para reflexionar y compartir claves sobre el papel imprescindible del voluntariado en un proyecto que involucra a toda la ciudadanía. \n🗓 Miércoles\, 25 de junio de 2025🕖 19:00h📍 Sala de Conferencias del Complejo Triunfo (UGR)🎤 Modera: Miguel Ángel Palanco (CaixaBank)📌 Coordina: Rosa González de Patto (Presidenta del Ateneo de Granada) \nOrganiza: Ateneo de Granada\, en colaboración con el Ayuntamiento de Granada y Granada 2031. \n🔗 Más información: https://2031granada.org/mesa-redonda-voluntariado-y-candidatura-a-la-capital-cultural-de-granada-2031/ \n📣 Entrada libre hasta completar aforo. ¡Te esperamos!
URL:https://ateneodegranada.com/event/mesa-redonda-voluntariado-y-candidatura-a-la-capitalidad-cultural-granada-2031/
LOCATION:Ateneo de Granada\, C/Martín Bohórquez\, 30\, Granada\, Granada\, 18005\, Spain
CATEGORIES:Ateneo de Granada,Mesa Redonda
ATTACH;FMTTYPE=image/jpeg:https://ateneodegranada.com/wp-content/uploads/2025/06/WhatsApp-Image-2025-06-20-at-11.49.11.jpeg
END:VEVENT
END:VCALENDAR