BEGIN:VCALENDAR
VERSION:2.0
PRODID:-//Ateneo de Granada - ECPv6.15.20//NONSGML v1.0//EN
CALSCALE:GREGORIAN
METHOD:PUBLISH
X-WR-CALNAME:Ateneo de Granada
X-ORIGINAL-URL:https://ateneodegranada.com
X-WR-CALDESC:Eventos para Ateneo de Granada
REFRESH-INTERVAL;VALUE=DURATION:PT1H
X-Robots-Tag:noindex
X-PUBLISHED-TTL:PT1H
BEGIN:VTIMEZONE
TZID:Europe/Paris
BEGIN:DAYLIGHT
TZOFFSETFROM:+0100
TZOFFSETTO:+0200
TZNAME:CEST
DTSTART:20240331T010000
END:DAYLIGHT
BEGIN:STANDARD
TZOFFSETFROM:+0200
TZOFFSETTO:+0100
TZNAME:CET
DTSTART:20241027T010000
END:STANDARD
BEGIN:DAYLIGHT
TZOFFSETFROM:+0100
TZOFFSETTO:+0200
TZNAME:CEST
DTSTART:20250330T010000
END:DAYLIGHT
BEGIN:STANDARD
TZOFFSETFROM:+0200
TZOFFSETTO:+0100
TZNAME:CET
DTSTART:20251026T010000
END:STANDARD
BEGIN:DAYLIGHT
TZOFFSETFROM:+0100
TZOFFSETTO:+0200
TZNAME:CEST
DTSTART:20260329T010000
END:DAYLIGHT
BEGIN:STANDARD
TZOFFSETFROM:+0200
TZOFFSETTO:+0100
TZNAME:CET
DTSTART:20261025T010000
END:STANDARD
END:VTIMEZONE
BEGIN:VEVENT
DTSTART;TZID=Europe/Paris:20250605T193000
DTEND;TZID=Europe/Paris:20250605T213000
DTSTAMP:20260424T114116
CREATED:20250530T143522Z
LAST-MODIFIED:20250530T143522Z
UID:7781-1749151800-1749159000@ateneodegranada.com
SUMMARY:Conferencias del Ateneo Las mujeres en el mundo árabe. El Derecho de Familia
DESCRIPTION:🎓 Conferencias del AteneoLas mujeres en el mundo árabe. El Derecho de Familia📅 Jueves 5 de junio de 2025🕢 19:30 h📍 Sede del Ateneo de GranadaC/ Martín Bohórquez\, 30 \nDesde la Sección de Arabismo y Feminismo del Ateneo de Granada\, os invitamos a una reflexión profunda y necesaria sobre la realidad jurídica y social de las mujeres en el mundo árabe. \n🎙️ Ponente:Caridad Ruiz de Almodóvar y Sel \n🎤 Presenta:Maribel Lázaro \nUna oportunidad para entender los retos y avances en torno al Derecho de Familia desde una perspectiva comparada y feminista. \nEntrada libre hasta completar aforo.
URL:https://ateneodegranada.com/event/conferencias-del-ateneo-las-mujeres-en-el-mundo-arabe-el-derecho-de-familia/
LOCATION:Ateneo de Granada\, C/Martín Bohórquez\, 30\, Granada\, Granada\, 18005\, Spain
CATEGORIES:Ateneo de Granada,Conferencia
ATTACH;FMTTYPE=image/jpeg:https://ateneodegranada.com/wp-content/uploads/2025/05/WhatsApp-Image-2025-05-30-at-09.05.52.jpeg
END:VEVENT
END:VCALENDAR