BEGIN:VCALENDAR
VERSION:2.0
PRODID:-//Ateneo de Granada - ECPv6.15.20//NONSGML v1.0//EN
CALSCALE:GREGORIAN
METHOD:PUBLISH
X-WR-CALNAME:Ateneo de Granada
X-ORIGINAL-URL:https://ateneodegranada.com
X-WR-CALDESC:Eventos para Ateneo de Granada
REFRESH-INTERVAL;VALUE=DURATION:PT1H
X-Robots-Tag:noindex
X-PUBLISHED-TTL:PT1H
BEGIN:VTIMEZONE
TZID:Europe/Paris
BEGIN:DAYLIGHT
TZOFFSETFROM:+0100
TZOFFSETTO:+0200
TZNAME:CEST
DTSTART:20240331T010000
END:DAYLIGHT
BEGIN:STANDARD
TZOFFSETFROM:+0200
TZOFFSETTO:+0100
TZNAME:CET
DTSTART:20241027T010000
END:STANDARD
BEGIN:DAYLIGHT
TZOFFSETFROM:+0100
TZOFFSETTO:+0200
TZNAME:CEST
DTSTART:20250330T010000
END:DAYLIGHT
BEGIN:STANDARD
TZOFFSETFROM:+0200
TZOFFSETTO:+0100
TZNAME:CET
DTSTART:20251026T010000
END:STANDARD
BEGIN:DAYLIGHT
TZOFFSETFROM:+0100
TZOFFSETTO:+0200
TZNAME:CEST
DTSTART:20260329T010000
END:DAYLIGHT
BEGIN:STANDARD
TZOFFSETFROM:+0200
TZOFFSETTO:+0100
TZNAME:CET
DTSTART:20261025T010000
END:STANDARD
END:VTIMEZONE
BEGIN:VEVENT
DTSTART;TZID=Europe/Paris:20250529T190000
DTEND;TZID=Europe/Paris:20250529T210000
DTSTAMP:20260424T111548
CREATED:20250522T074357Z
LAST-MODIFIED:20250522T074357Z
UID:7757-1748545200-1748552400@ateneodegranada.com
SUMMARY:PRESENTACIÓN | Igual que entonces
DESCRIPTION:📖 Lecturas del Ateneo\nPresentación del libro:\n✨ Igual que entonces\nde Inmaculada Mengíbar\n📚 Editorial Renacimiento\, 2025 \nEl Ateneo de Granada acoge un nuevo encuentro con la poesía en una cita con la voz personal\, íntima y lúcida de Inmaculada Mengíbar\, autora de una obra que dialoga con el tiempo\, la memoria y los afectos. \n📅 Jueves\, 29 de mayo de 2025\n🕖 19:00 h\n📍 Sede del Ateneo – C/ Martín Bohórquez 30\n🎟 Entrada libre hasta completar aforo \n🎙 Intervienen:\n🔹 Inmaculada Mengíbar – Autora del libro\n🗣 Presentan:\n🔹 Ángeles Mora\n🔹 Teresa Gómez\n🧭 Coordina: María Bueno Martínez \nOrganiza: Ateneo de Granada\nCon el apoyo de Granada 2031 y Instante\nColabora: Ambulancias Urgencias Sanitarias
URL:https://ateneodegranada.com/event/presentacion-igual-que-entonces/
LOCATION:Ateneo de Granada\, C/Martín Bohórquez\, 30\, Granada\, Granada\, 18005\, Spain
CATEGORIES:Ateneo de Granada,Lecturas del Ateneo
ATTACH;FMTTYPE=image/jpeg:https://ateneodegranada.com/wp-content/uploads/2025/05/WhatsApp-Image-2025-05-21-at-16.52.26-2.jpeg
END:VEVENT
END:VCALENDAR