BEGIN:VCALENDAR
VERSION:2.0
PRODID:-//Ateneo de Granada - ECPv6.15.20//NONSGML v1.0//EN
CALSCALE:GREGORIAN
METHOD:PUBLISH
X-WR-CALNAME:Ateneo de Granada
X-ORIGINAL-URL:https://ateneodegranada.com
X-WR-CALDESC:Eventos para Ateneo de Granada
REFRESH-INTERVAL;VALUE=DURATION:PT1H
X-Robots-Tag:noindex
X-PUBLISHED-TTL:PT1H
BEGIN:VTIMEZONE
TZID:Europe/Paris
BEGIN:DAYLIGHT
TZOFFSETFROM:+0100
TZOFFSETTO:+0200
TZNAME:CEST
DTSTART:20240331T010000
END:DAYLIGHT
BEGIN:STANDARD
TZOFFSETFROM:+0200
TZOFFSETTO:+0100
TZNAME:CET
DTSTART:20241027T010000
END:STANDARD
BEGIN:DAYLIGHT
TZOFFSETFROM:+0100
TZOFFSETTO:+0200
TZNAME:CEST
DTSTART:20250330T010000
END:DAYLIGHT
BEGIN:STANDARD
TZOFFSETFROM:+0200
TZOFFSETTO:+0100
TZNAME:CET
DTSTART:20251026T010000
END:STANDARD
BEGIN:DAYLIGHT
TZOFFSETFROM:+0100
TZOFFSETTO:+0200
TZNAME:CEST
DTSTART:20260329T010000
END:DAYLIGHT
BEGIN:STANDARD
TZOFFSETFROM:+0200
TZOFFSETTO:+0100
TZNAME:CET
DTSTART:20261025T010000
END:STANDARD
END:VTIMEZONE
BEGIN:VEVENT
DTSTART;TZID=Europe/Paris:20250527T193000
DTEND;TZID=Europe/Paris:20250527T213000
DTSTAMP:20260424T125141
CREATED:20250522T075031Z
LAST-MODIFIED:20250522T075031Z
UID:7765-1748374200-1748381400@ateneodegranada.com
SUMMARY:CICLO | La democracia a debate
DESCRIPTION:🌍 Ciclo: La democracia a debate🕊️ La guerra en Ucrania y el rearme de Europa \nUn diálogo imprescindible para entender los nuevos desafíos geopolíticos que atraviesa Europa en el marco del conflicto en Ucrania y sus implicaciones en el rearme del continente. \n🗓 Lunes\, 27 de mayo de 2025🕢 19:30 h📍 Salón de Grados de la Facultad de Ciencias Políticas y Sociología (UGR)📍 C/ Rector López Argüeta\, 4💻 Acceso online: https://meet.google.com/dwj-vcsx-ind \n🎙 Participan:🔹 Ignacio García Valdecasas – Embajador de España (jubilado)🔹 José Ángel Ruiz Jiménez – Director del Instituto de la Paz y los Conflictos (IPAZ) \n🗣 Presenta: Santiago Delgado – Decano de la Facultad de Ciencias Políticas y Sociología (UGR)🧭 Modera: Jesús Andrés Sánchez Cazorla – Coordinador de Miradas al Mundo (IPAZ)📌 Coordina: Miguel Jerez – Catedrático de Ciencia Política (UGR) \nOrganizan:👉 Ateneo de Granada👉 Facultad de Ciencias Políticas y Sociología (UGR)👉 Instituto de la Paz y los Conflictos – IPAZ
URL:https://ateneodegranada.com/event/ciclo-la-democracia-a-debate/
CATEGORIES:Ateneo de Granada,Ciclo de conferencias,Mesa Redonda
ATTACH;FMTTYPE=image/jpeg:https://ateneodegranada.com/wp-content/uploads/2025/05/WhatsApp-Image-2025-05-21-at-16.52.26.jpeg
END:VEVENT
END:VCALENDAR