BEGIN:VCALENDAR
VERSION:2.0
PRODID:-//Ateneo de Granada - ECPv6.15.20//NONSGML v1.0//EN
CALSCALE:GREGORIAN
METHOD:PUBLISH
X-ORIGINAL-URL:https://ateneodegranada.com
X-WR-CALDESC:Eventos para Ateneo de Granada
REFRESH-INTERVAL;VALUE=DURATION:PT1H
X-Robots-Tag:noindex
X-PUBLISHED-TTL:PT1H
BEGIN:VTIMEZONE
TZID:Europe/Paris
BEGIN:DAYLIGHT
TZOFFSETFROM:+0100
TZOFFSETTO:+0200
TZNAME:CEST
DTSTART:20240331T010000
END:DAYLIGHT
BEGIN:STANDARD
TZOFFSETFROM:+0200
TZOFFSETTO:+0100
TZNAME:CET
DTSTART:20241027T010000
END:STANDARD
BEGIN:DAYLIGHT
TZOFFSETFROM:+0100
TZOFFSETTO:+0200
TZNAME:CEST
DTSTART:20250330T010000
END:DAYLIGHT
BEGIN:STANDARD
TZOFFSETFROM:+0200
TZOFFSETTO:+0100
TZNAME:CET
DTSTART:20251026T010000
END:STANDARD
BEGIN:DAYLIGHT
TZOFFSETFROM:+0100
TZOFFSETTO:+0200
TZNAME:CEST
DTSTART:20260329T010000
END:DAYLIGHT
BEGIN:STANDARD
TZOFFSETFROM:+0200
TZOFFSETTO:+0100
TZNAME:CET
DTSTART:20261025T010000
END:STANDARD
END:VTIMEZONE
BEGIN:VEVENT
DTSTART;TZID=Europe/Paris:20250522T200000
DTEND;TZID=Europe/Paris:20250522T220000
DTSTAMP:20260424T125515
CREATED:20250516T115050Z
LAST-MODIFIED:20250516T115050Z
UID:7743-1747944000-1747951200@ateneodegranada.com
SUMMARY:CONFERENCIA | Ciclo: La salud mental que tenemos
DESCRIPTION:🧠 Conferencia | Ciclo: La salud mental que tenemosDe la angustia al odio: una amenaza para la convivenciaUn análisis profundo y necesario sobre cómo la salud mental\, el malestar emocional y la gestión del sufrimiento se transforman en desafíos colectivos para nuestra convivencia democrática. \n📅 Jueves\, 22 de mayo de 2025🕗 20:00 h📍 Sede del Ateneo – C/ Martín Bohórquez 30 (paralela a Alhamar)🎟 Entrada libre \n🎙 Interviene:🔹 Jesús Ambel – Psicólogo\, psicoanalista y ex-presidente del Ateneo \n🗣 Presenta:🔹 Raquel Ruz – Socia del Ateneo y Concejala en el Ayuntamiento de Granada \nOrganiza: Ateneo de Granada – Sección Salud y SociedadCon el apoyo de Ateneos de Andalucía y Granada 2031
URL:https://ateneodegranada.com/event/conferencia-ciclo-la-salud-mental-que-tenemos/
LOCATION:Ateneo de Granada\, C/Martín Bohórquez\, 30\, Granada\, Granada\, 18005\, Spain
CATEGORIES:Ateneo de Granada,Conferencia
ATTACH;FMTTYPE=image/jpeg:https://ateneodegranada.com/wp-content/uploads/2025/05/WhatsApp-Image-2025-05-16-at-12.18.50-1.jpeg
END:VEVENT
END:VCALENDAR