BEGIN:VCALENDAR
VERSION:2.0
PRODID:-//Ateneo de Granada - ECPv6.15.20//NONSGML v1.0//EN
CALSCALE:GREGORIAN
METHOD:PUBLISH
X-ORIGINAL-URL:https://ateneodegranada.com
X-WR-CALDESC:Eventos para Ateneo de Granada
REFRESH-INTERVAL;VALUE=DURATION:PT1H
X-Robots-Tag:noindex
X-PUBLISHED-TTL:PT1H
BEGIN:VTIMEZONE
TZID:Europe/Paris
BEGIN:DAYLIGHT
TZOFFSETFROM:+0100
TZOFFSETTO:+0200
TZNAME:CEST
DTSTART:20240331T010000
END:DAYLIGHT
BEGIN:STANDARD
TZOFFSETFROM:+0200
TZOFFSETTO:+0100
TZNAME:CET
DTSTART:20241027T010000
END:STANDARD
BEGIN:DAYLIGHT
TZOFFSETFROM:+0100
TZOFFSETTO:+0200
TZNAME:CEST
DTSTART:20250330T010000
END:DAYLIGHT
BEGIN:STANDARD
TZOFFSETFROM:+0200
TZOFFSETTO:+0100
TZNAME:CET
DTSTART:20251026T010000
END:STANDARD
BEGIN:DAYLIGHT
TZOFFSETFROM:+0100
TZOFFSETTO:+0200
TZNAME:CEST
DTSTART:20260329T010000
END:DAYLIGHT
BEGIN:STANDARD
TZOFFSETFROM:+0200
TZOFFSETTO:+0100
TZNAME:CET
DTSTART:20261025T010000
END:STANDARD
END:VTIMEZONE
BEGIN:VEVENT
DTSTART;TZID=Europe/Paris:20250520T193000
DTEND;TZID=Europe/Paris:20250520T213000
DTSTAMP:20260424T124255
CREATED:20250516T115711Z
LAST-MODIFIED:20250516T115711Z
UID:7750-1747769400-1747776600@ateneodegranada.com
SUMMARY:CICLO DE CONFERENCIAS | Qué es la cultura
DESCRIPTION:🧠 Ciclo: Qué es la cultura📚 Segunda sesión del ciclo de reflexión filosófica y sociológica sobre el papel de la cultura en nuestra sociedad contemporánea.Organizado por la Sección Institucional del Ateneo de Granada\, con la coordinación de José Luis Gómez Ordóñez y Socorro Robles Vizcaíno. \n📅 Martes\, 20 de mayo de 2025🕢 19:30 h📍 Sede del Ateneo – C/ Martín Bohórquez 30🎟 Entrada libre \n🎙 Ponencias:🔹 Juana M. Gil Ruiz“Mercado\, Derecho y pensamiento crítico: ¿hacia una igualdad efectiva ciudadana?” \n🔹 María García Pérez“Márgenes de la cultura. Resistencia y creación para habitar el siglo XXI” \n🖼 La ilustración del cartel corresponde a la cubierta del libro Tierra y destino\, de Luis Sáez. \nUn encuentro para repensar la cultura desde sus fronteras\, sus fundamentos y su potencia transformadora.
URL:https://ateneodegranada.com/event/ciclo-de-conferencias-que-es-la-cultura-3/
CATEGORIES:Ateneo de Granada,Ciclo de conferencias
ATTACH;FMTTYPE=image/jpeg:https://ateneodegranada.com/wp-content/uploads/2025/05/WhatsApp-Image-2025-05-16-at-12.17.43.jpeg
END:VEVENT
END:VCALENDAR