BEGIN:VCALENDAR
VERSION:2.0
PRODID:-//Ateneo de Granada - ECPv6.15.20//NONSGML v1.0//EN
CALSCALE:GREGORIAN
METHOD:PUBLISH
X-WR-CALNAME:Ateneo de Granada
X-ORIGINAL-URL:https://ateneodegranada.com
X-WR-CALDESC:Eventos para Ateneo de Granada
REFRESH-INTERVAL;VALUE=DURATION:PT1H
X-Robots-Tag:noindex
X-PUBLISHED-TTL:PT1H
BEGIN:VTIMEZONE
TZID:Europe/Paris
BEGIN:DAYLIGHT
TZOFFSETFROM:+0100
TZOFFSETTO:+0200
TZNAME:CEST
DTSTART:20240331T010000
END:DAYLIGHT
BEGIN:STANDARD
TZOFFSETFROM:+0200
TZOFFSETTO:+0100
TZNAME:CET
DTSTART:20241027T010000
END:STANDARD
BEGIN:DAYLIGHT
TZOFFSETFROM:+0100
TZOFFSETTO:+0200
TZNAME:CEST
DTSTART:20250330T010000
END:DAYLIGHT
BEGIN:STANDARD
TZOFFSETFROM:+0200
TZOFFSETTO:+0100
TZNAME:CET
DTSTART:20251026T010000
END:STANDARD
BEGIN:DAYLIGHT
TZOFFSETFROM:+0100
TZOFFSETTO:+0200
TZNAME:CEST
DTSTART:20260329T010000
END:DAYLIGHT
BEGIN:STANDARD
TZOFFSETFROM:+0200
TZOFFSETTO:+0100
TZNAME:CET
DTSTART:20261025T010000
END:STANDARD
END:VTIMEZONE
BEGIN:VEVENT
DTSTART;TZID=Europe/Paris:20250519T190000
DTEND;TZID=Europe/Paris:20250519T210000
DTSTAMP:20260424T124959
CREATED:20250516T115848Z
LAST-MODIFIED:20250516T115848Z
UID:7754-1747681200-1747688400@ateneodegranada.com
SUMMARY:CONFERENCIA | La historia profética y el fantasma del fascismo
DESCRIPTION:📚 Conferencia | La historia profética y el fantasma del fascismo \nEl Ateneo de Granada y la Facultad de Ciencias Políticas y Sociología de la UGR abren un espacio de reflexión crítica sobre los discursos proféticos en la historia y el regreso de los lenguajes autoritarios en el presente. \n📅 Lunes\, 19 de mayo de 2025🕖 19:00 h📍 Salón de Grados – Facultad de Ciencias Políticas y Sociología\, UGR🎟 Entrada libre \n🎙 Interviene:🔹 Santiago Gerchunoff – Profesor de Teoría Política en la Universidad Carlos III de Madrid \n🗣 Presenta:🔹 Santiago Delgado – Decano de la Facultad de Ciencias Políticas y Sociología de la UGR \n🗣 Modera:🔹 Fernando Fernández-Llebrez – Profesor de Ciencia Política de la UGR \nOrganiza: Sección Democracia y Derechos Humanos del Ateneo de Granada\, en colaboración con la Facultad de Ciencias Políticas y Sociología (UGR) \n#AteneoDeGranada #SantiagoGerchunoff #DemocraciaYDerechosHumanos #CulturaPolítica #TeoríaPolítica #ContraElFascismo #Granada2031 #UGR #AgendaCulturalGranada #PensamientoCrítico
URL:https://ateneodegranada.com/event/conferencia-la-historia-profetica-y-el-fantasma-del-fascismo/
ATTACH;FMTTYPE=image/jpeg:https://ateneodegranada.com/wp-content/uploads/2025/05/WhatsApp-Image-2025-05-16-at-12.17.17.jpeg
END:VEVENT
END:VCALENDAR