BEGIN:VCALENDAR
VERSION:2.0
PRODID:-//Ateneo de Granada - ECPv6.15.20//NONSGML v1.0//EN
CALSCALE:GREGORIAN
METHOD:PUBLISH
X-WR-CALNAME:Ateneo de Granada
X-ORIGINAL-URL:https://ateneodegranada.com
X-WR-CALDESC:Eventos para Ateneo de Granada
REFRESH-INTERVAL;VALUE=DURATION:PT1H
X-Robots-Tag:noindex
X-PUBLISHED-TTL:PT1H
BEGIN:VTIMEZONE
TZID:Europe/Paris
BEGIN:DAYLIGHT
TZOFFSETFROM:+0100
TZOFFSETTO:+0200
TZNAME:CEST
DTSTART:20240331T010000
END:DAYLIGHT
BEGIN:STANDARD
TZOFFSETFROM:+0200
TZOFFSETTO:+0100
TZNAME:CET
DTSTART:20241027T010000
END:STANDARD
BEGIN:DAYLIGHT
TZOFFSETFROM:+0100
TZOFFSETTO:+0200
TZNAME:CEST
DTSTART:20250330T010000
END:DAYLIGHT
BEGIN:STANDARD
TZOFFSETFROM:+0200
TZOFFSETTO:+0100
TZNAME:CET
DTSTART:20251026T010000
END:STANDARD
BEGIN:DAYLIGHT
TZOFFSETFROM:+0100
TZOFFSETTO:+0200
TZNAME:CEST
DTSTART:20260329T010000
END:DAYLIGHT
BEGIN:STANDARD
TZOFFSETFROM:+0200
TZOFFSETTO:+0100
TZNAME:CET
DTSTART:20261025T010000
END:STANDARD
END:VTIMEZONE
BEGIN:VEVENT
DTSTART;TZID=Europe/Paris:20250512T203000
DTEND;TZID=Europe/Paris:20250516T200000
DTSTAMP:20260424T124959
CREATED:20250502T105427Z
LAST-MODIFIED:20250502T105458Z
UID:7701-1747081800-1747425600@ateneodegranada.com
SUMMARY:Feria del Libro de Granada 2025
DESCRIPTION:📖 El Ateneo en la Feria del Libro de Granada 2025\nDel 9 al 18 de mayo\, el Ateneo de Granada se suma a la 43ª edición de la Feria del Libro con una programación diversa\, comprometida y con voz propia. ¡Te esperamos! \n🗓 Programación destacada: \n📍Lunes 12 mayo – 20:30 h\nLecturas violetas\, recital poético\n📌 Pabellón Fundación Caja Rural – Feria del Libro \n📍Martes 13 mayo – 18:00 h\nMesa redonda Minervas del siglo XXI: Mujeres editoras granadinas\n📌 Instituto Andaluz de la Mujer \n📍Miércoles 14 mayo – 18:00 h\nPresentación del libro Los últimos pieles rojas de Juan José Téllez\n📌 Pabellón Granada – Feria del Libro \n📍Jueves 15 mayo – 19:30 h\nPresentación del libro Otra manera de nombrarte de Jesús Amaya\n📌 Sede del Ateneo de Granada \n📍Viernes 16 mayo – 19:30 h\nPresentación del libro Cantares a nuestra tierra de Leonardo V. Villena\n📌 Sede del Ateneo de Granada \n🎟 Todas las actividades son con entrada libre hasta completar aforo \nOrganiza: Ateneo de Granada\nEn el marco de la 43ª Feria del Libro de Granada\n📚 Mujeres\, literaturas | #FLG2025 \n#AteneoDeGranada #FeriadelLibroGranada #FLG2025 #MujeresLiteraturas #AgendaCulturalGranada #CulturaEnGranada #PoetasGranadinas #LecturasVioletas #JuanJoséTéllez #JesúsAmaya #LeonardoVillena #MinervasDelSigloXXI
URL:https://ateneodegranada.com/event/feria-del-libro-de-granada-2025/
CATEGORIES:Ateneo de Granada
ATTACH;FMTTYPE=image/jpeg:https://ateneodegranada.com/wp-content/uploads/2025/05/WhatsApp-Image-2025-05-02-at-10.45.08.jpeg
END:VEVENT
BEGIN:VEVENT
DTSTART;TZID=Europe/Paris:20250512T203000
DTEND;TZID=Europe/Paris:20250516T210000
DTSTAMP:20260424T124959
CREATED:20250509T084235Z
LAST-MODIFIED:20250509T084235Z
UID:7705-1747081800-1747429200@ateneodegranada.com
SUMMARY:El Ateneo de Granada en la Feria del Libro 2025
DESCRIPTION:📚 El Ateneo de Granada en la Feria del Libro 2025Del 9 al 18 de mayo\, el Ateneo se suma un año más a la programación de la Feria del Libro de Granada\, con una serie de actividades literarias que celebran la palabra\, el pensamiento crítico y la creación local.Este año\, bajo el lema “Mujeres\, literaturas”\, os invitamos a compartir lecturas\, encuentros y reflexiones en diferentes espacios de la ciudad. \n🗓 Programación del Ateneo: \n🔹 Lunes 12 mayo – 20:30 hLecturas violetas\, recital poético📍 Pabellón Fundación Caja Rural – FLG \n🔹 Martes 13 mayo – 18:00 hMesa redonda Minervas del siglo XXI: Mujeres editoras granadinas📍 Instituto Andaluz de la Mujer \n🔹 Miércoles 14 mayo – 18:00 hPresentación del libro Los últimos pieles rojas de Juan José Téllez📍 Pabellón Granada – FLG \n🔹 Jueves 15 mayo – 19:30 hPresentación del libro Otra manera de nombrarte de Jesús Amaya📍 Sede del Ateneo de Granada \n🔹 Viernes 16 mayo – 19:30 hPresentación del libro Cantares a nuestra tierra de Leonardo V. Villena📍 Sede del Ateneo de Granada \n🎟 Entrada libre hasta completar aforo
URL:https://ateneodegranada.com/event/el-ateneo-de-granada-en-la-feria-del-libro-2025/
CATEGORIES:Ateneo de Granada,Granada 2031,Lecturas del Ateneo
ATTACH;FMTTYPE=image/jpeg:https://ateneodegranada.com/wp-content/uploads/2025/05/WhatsApp-Image-2025-05-02-at-10.45.08.jpeg
END:VEVENT
BEGIN:VEVENT
DTSTART;TZID=Europe/Paris:20250514T180000
DTEND;TZID=Europe/Paris:20250514T200000
DTSTAMP:20260424T124959
CREATED:20250509T085100Z
LAST-MODIFIED:20250509T085100Z
UID:7716-1747245600-1747252800@ateneodegranada.com
SUMMARY:Feria del libro 2025  |  Lecturas del Ateneo | Feria del Libro de Granada 2025
DESCRIPTION:📖 Lecturas del Ateneo | Feria del Libro de Granada 2025Presentación del libro de poemas Los últimos pieles rojas de Juan José Téllez✍️ Publicado por Editorial Renacimiento\, 2024 \n📅 Miércoles\, 14 de mayo de 2025🕕 18:00 h📍 Pabellón de Granada – Feria del Libro \n🎙 Intervienen:🔹 Juan José Téllez – Autor del libro🔹 Teresa Gómez – Poeta\, presenta🎛 Coordina: Antonio Lara \nUna oportunidad para conocer la voz poética\, comprometida y lúcida de Juan José Téllez en diálogo con la memoria\, la resistencia y la palabra. \n🎟 Entrada libre hasta completar aforo \nOrganiza: Ateneo de GranadaCon el apoyo de Granada 2031 \n#AteneoDeGranada #LecturasDelAteneo #JuanJoséTéllez #LosÚltimosPielesRojas #EditorialRenacimiento #FeriadelLibroGranada #FLG2025 #Poesía #AgendaCulturalGranada #Granada2031
URL:https://ateneodegranada.com/event/feria-del-libro-2025-lecturas-del-ateneo-feria-del-libro-de-granada-2025/
CATEGORIES:Ateneo de Granada,Feria del libro 2025
ATTACH;FMTTYPE=image/jpeg:https://ateneodegranada.com/wp-content/uploads/2025/05/WhatsApp-Image-2025-05-09-at-10.31.39-1.jpeg
END:VEVENT
END:VCALENDAR