BEGIN:VCALENDAR
VERSION:2.0
PRODID:-//Ateneo de Granada - ECPv6.15.20//NONSGML v1.0//EN
CALSCALE:GREGORIAN
METHOD:PUBLISH
X-ORIGINAL-URL:https://ateneodegranada.com
X-WR-CALDESC:Eventos para Ateneo de Granada
REFRESH-INTERVAL;VALUE=DURATION:PT1H
X-Robots-Tag:noindex
X-PUBLISHED-TTL:PT1H
BEGIN:VTIMEZONE
TZID:Europe/Paris
BEGIN:DAYLIGHT
TZOFFSETFROM:+0100
TZOFFSETTO:+0200
TZNAME:CEST
DTSTART:20240331T010000
END:DAYLIGHT
BEGIN:STANDARD
TZOFFSETFROM:+0200
TZOFFSETTO:+0100
TZNAME:CET
DTSTART:20241027T010000
END:STANDARD
BEGIN:DAYLIGHT
TZOFFSETFROM:+0100
TZOFFSETTO:+0200
TZNAME:CEST
DTSTART:20250330T010000
END:DAYLIGHT
BEGIN:STANDARD
TZOFFSETFROM:+0200
TZOFFSETTO:+0100
TZNAME:CET
DTSTART:20251026T010000
END:STANDARD
BEGIN:DAYLIGHT
TZOFFSETFROM:+0100
TZOFFSETTO:+0200
TZNAME:CEST
DTSTART:20260329T010000
END:DAYLIGHT
BEGIN:STANDARD
TZOFFSETFROM:+0200
TZOFFSETTO:+0100
TZNAME:CET
DTSTART:20261025T010000
END:STANDARD
END:VTIMEZONE
BEGIN:VEVENT
DTSTART;TZID=Europe/Paris:20250507T110000
DTEND;TZID=Europe/Paris:20250507T130000
DTSTAMP:20260424T124336
CREATED:20250502T104230Z
LAST-MODIFIED:20250502T104230Z
UID:7694-1746615600-1746622800@ateneodegranada.com
SUMMARY:AULA DE MAYORES | Muerte Digna: “El alivio del sufrimiento al final de la vida”
DESCRIPTION:🏥 Aula de MayoresMuerte Digna: “El alivio del sufrimiento al final de la vida”Una sesión para reflexionar y dialogar sobre el derecho a una muerte digna y el papel de los profesionales sanitarios en este proceso. \n🎙 Intervienen:🔹 Elia Sevilla García – Médica de Familia. Asociación Derecho a Morir Dignamente (DMD)🔹 Miguel Melguizo Jiménez – Médico de Familia y miembro de la Comisión de Garantía y Evaluación de la Eutanasia de Andalucía \n🗣 Presenta:🔹 Teresa Martínez-Cañavate – Asociación DMD y socia del Ateneo \n📅 Miércoles\, 7 de mayo de 2025🕚 11:00 h📍 Sede del Ateneo de Granada – C/ Martín Bohórquez 30🎟 Entrada libre hasta completar aforo \nOrganizan: Ateneo de Granada y Asociación Derecho a Morir Dignamente (DMD)Con el apoyo del Ayuntamiento de Granada\, Fundación “la Caixa” y Granada 2031
URL:https://ateneodegranada.com/event/aula-de-mayores-muerte-digna-el-alivio-del-sufrimiento-al-final-de-la-vida/
LOCATION:Ateneo de Granada\, C/Martín Bohórquez\, 30\, Granada\, Granada\, 18005\, Spain
CATEGORIES:Ateneo de Granada,Aula de mayores
ATTACH;FMTTYPE=image/jpeg:https://ateneodegranada.com/wp-content/uploads/2025/05/WhatsApp-Image-2025-05-02-at-10.43.13.jpeg
END:VEVENT
BEGIN:VEVENT
DTSTART;TZID=Europe/Paris:20250507T190000
DTEND;TZID=Europe/Paris:20250507T210000
DTSTAMP:20260424T124336
CREATED:20250502T104957Z
LAST-MODIFIED:20250502T105230Z
UID:7697-1746644400-1746651600@ateneodegranada.com
SUMMARY:CONFERENCIA | ¿Cómo va a afectar a mi vida la guerra comercial iniciada por Trump?
DESCRIPTION:📈 Conferencias del Ateneo¿Cómo va a afectar a mi vida la guerra comercial iniciada por Trump? \nUna reflexión accesible y rigurosa sobre las consecuencias reales de la tensión económica entre potencias globales y su impacto en nuestro día a día. \n🎙 Ponente:🔹 María Ángeles Ortega Almón – Profesora titular del Departamento de Economía Aplicada\, UGR \n🗣 Presenta:🔹 José Jesús Martín Martín – Catedrático de Economía Aplicada\, UGR \n🎛 Coordina:🔹 Elena Gonzalo Jiménez – Ateneo de Granada \n📅 Miércoles\, 7 de mayo de 2025🕖 19:00 h📍 Sede del Ateneo – C/ Martín Bohórquez 30🎟 Entrada libre hasta completar aforo \nOrganiza: Ateneo de Granada – Sección InstitucionalCon el apoyo de Ateneos de Andalucía y Granada 2031 \n#AteneoDeGranada #ConferenciasDelAteneo #EconomíaGlobal #Trump #GuerraComercial #ChinaEEUU #ImpactoEconómico #AgendaCulturalGranada #Granada2031 #CulturaYActualidad
URL:https://ateneodegranada.com/event/conferencia-como-va-a-afectar-a-mi-vida-la-guerra-comercial-iniciada-por-trump/
LOCATION:Ateneo de Granada\, C/Martín Bohórquez\, 30\, Granada\, Granada\, 18005\, Spain
CATEGORIES:Ateneo de Granada,Conferencia
ATTACH;FMTTYPE=image/jpeg:https://ateneodegranada.com/wp-content/uploads/2025/05/WhatsApp-Image-2025-05-02-at-10.43.24.jpeg
END:VEVENT
END:VCALENDAR