BEGIN:VCALENDAR
VERSION:2.0
PRODID:-//Ateneo de Granada - ECPv6.15.20//NONSGML v1.0//EN
CALSCALE:GREGORIAN
METHOD:PUBLISH
X-WR-CALNAME:Ateneo de Granada
X-ORIGINAL-URL:https://ateneodegranada.com
X-WR-CALDESC:Eventos para Ateneo de Granada
REFRESH-INTERVAL;VALUE=DURATION:PT1H
X-Robots-Tag:noindex
X-PUBLISHED-TTL:PT1H
BEGIN:VTIMEZONE
TZID:Europe/Paris
BEGIN:DAYLIGHT
TZOFFSETFROM:+0100
TZOFFSETTO:+0200
TZNAME:CEST
DTSTART:20240331T010000
END:DAYLIGHT
BEGIN:STANDARD
TZOFFSETFROM:+0200
TZOFFSETTO:+0100
TZNAME:CET
DTSTART:20241027T010000
END:STANDARD
BEGIN:DAYLIGHT
TZOFFSETFROM:+0100
TZOFFSETTO:+0200
TZNAME:CEST
DTSTART:20250330T010000
END:DAYLIGHT
BEGIN:STANDARD
TZOFFSETFROM:+0200
TZOFFSETTO:+0100
TZNAME:CET
DTSTART:20251026T010000
END:STANDARD
BEGIN:DAYLIGHT
TZOFFSETFROM:+0100
TZOFFSETTO:+0200
TZNAME:CEST
DTSTART:20260329T010000
END:DAYLIGHT
BEGIN:STANDARD
TZOFFSETFROM:+0200
TZOFFSETTO:+0100
TZNAME:CET
DTSTART:20261025T010000
END:STANDARD
END:VTIMEZONE
BEGIN:VEVENT
DTSTART;TZID=Europe/Paris:20250430T200000
DTEND;TZID=Europe/Paris:20250430T220000
DTSTAMP:20260424T123925
CREATED:20250424T094429Z
LAST-MODIFIED:20250424T094429Z
UID:7683-1746043200-1746050400@ateneodegranada.com
SUMMARY:CHARLA-DEBATE | Conversación con Raúl Alcover
DESCRIPTION:🎤 Sección de Humanidades | Ciclo: Granada es músicaConversación con Raúl AlcoverLa canción de autor en Granada \n🎙 Interviene:🔹 Raúl Alcover \n🗣 Presenta:🔹 Álvaro Salvador \n📅 Miércoles\, 30 de abril de 2025🕗 20:00 h📍 Sede del Ateneo de Granada – C/ Martín Bohórquez 30🎟 Entrada libre hasta completar aforo \nUna cita para acercarnos a la trayectoria de uno de los grandes nombres de la canción de autor en Granada\, en un espacio de diálogo sobre música\, creación y compromiso. \nOrganiza: Ateneo de GranadaCon el apoyo de Ateneos de Andalucía y Granada 2031 \n#AteneoDeGranada #GranadaEsMúsica #RaúlAlcover #CanciónDeAutor #MúsicaYPalabra #CulturaEnGranada #AgendaCulturalGranada #Granada2031
URL:https://ateneodegranada.com/event/charla-debate-conversacion-con-raul-alcover/
LOCATION:Ateneo de Granada\, C/Martín Bohórquez\, 30\, Granada\, Granada\, 18005\, Spain
CATEGORIES:Ateneo de Granada,Ciclo de Música y Humanidades
ATTACH;FMTTYPE=image/jpeg:https://ateneodegranada.com/wp-content/uploads/2025/04/WhatsApp-Image-2025-04-23-at-16.33.15-1.jpeg
END:VEVENT
END:VCALENDAR