BEGIN:VCALENDAR
VERSION:2.0
PRODID:-//Ateneo de Granada - ECPv6.15.20//NONSGML v1.0//EN
CALSCALE:GREGORIAN
METHOD:PUBLISH
X-WR-CALNAME:Ateneo de Granada
X-ORIGINAL-URL:https://ateneodegranada.com
X-WR-CALDESC:Eventos para Ateneo de Granada
REFRESH-INTERVAL;VALUE=DURATION:PT1H
X-Robots-Tag:noindex
X-PUBLISHED-TTL:PT1H
BEGIN:VTIMEZONE
TZID:Europe/Paris
BEGIN:DAYLIGHT
TZOFFSETFROM:+0100
TZOFFSETTO:+0200
TZNAME:CEST
DTSTART:20240331T010000
END:DAYLIGHT
BEGIN:STANDARD
TZOFFSETFROM:+0200
TZOFFSETTO:+0100
TZNAME:CET
DTSTART:20241027T010000
END:STANDARD
BEGIN:DAYLIGHT
TZOFFSETFROM:+0100
TZOFFSETTO:+0200
TZNAME:CEST
DTSTART:20250330T010000
END:DAYLIGHT
BEGIN:STANDARD
TZOFFSETFROM:+0200
TZOFFSETTO:+0100
TZNAME:CET
DTSTART:20251026T010000
END:STANDARD
BEGIN:DAYLIGHT
TZOFFSETFROM:+0100
TZOFFSETTO:+0200
TZNAME:CEST
DTSTART:20260329T010000
END:DAYLIGHT
BEGIN:STANDARD
TZOFFSETFROM:+0200
TZOFFSETTO:+0100
TZNAME:CET
DTSTART:20261025T010000
END:STANDARD
END:VTIMEZONE
BEGIN:VEVENT
DTSTART;TZID=Europe/Paris:20250425T190000
DTEND;TZID=Europe/Paris:20250425T210000
DTSTAMP:20260424T135552
CREATED:20250415T121550Z
LAST-MODIFIED:20250415T121550Z
UID:7674-1745607600-1745614800@ateneodegranada.com
SUMMARY:PRESENTACIÓN | Los abrazos que no nos dimos
DESCRIPTION:📖 Lecturas del AteneoPresentación de la novela Los abrazos que no nos dimos de Paz Fanlo✍️ Editorial SELEER\, 2024 \n🎙 Intervienen:🔹 Paz Fanlo – Autora del libro🗣 Presenta y coordina: María Bueno – Ateneo de Granada \n📅 Viernes\, 25 de abril de 2025🕖 19:00 h📍 Sede del Ateneo – C/ Martín Bohórquez 30🎟 Entrada libre hasta completar aforo \nOrganiza: Ateneo de GranadaCon el apoyo de Granada 2031
URL:https://ateneodegranada.com/event/presentacion-los-abrazos-que-no-nos-dimos/
LOCATION:Ateneo de Granada\, C/Martín Bohórquez\, 30\, Granada\, Granada\, 18005\, Spain
CATEGORIES:Ateneo de Granada,Lecturas del Ateneo
ATTACH;FMTTYPE=image/jpeg:https://ateneodegranada.com/wp-content/uploads/2025/04/WhatsApp-Image-2025-04-15-at-12.55.02-1.jpeg
END:VEVENT
END:VCALENDAR