BEGIN:VCALENDAR
VERSION:2.0
PRODID:-//Ateneo de Granada - ECPv6.15.20//NONSGML v1.0//EN
CALSCALE:GREGORIAN
METHOD:PUBLISH
X-WR-CALNAME:Ateneo de Granada
X-ORIGINAL-URL:https://ateneodegranada.com
X-WR-CALDESC:Eventos para Ateneo de Granada
REFRESH-INTERVAL;VALUE=DURATION:PT1H
X-Robots-Tag:noindex
X-PUBLISHED-TTL:PT1H
BEGIN:VTIMEZONE
TZID:Europe/Paris
BEGIN:DAYLIGHT
TZOFFSETFROM:+0100
TZOFFSETTO:+0200
TZNAME:CEST
DTSTART:20240331T010000
END:DAYLIGHT
BEGIN:STANDARD
TZOFFSETFROM:+0200
TZOFFSETTO:+0100
TZNAME:CET
DTSTART:20241027T010000
END:STANDARD
BEGIN:DAYLIGHT
TZOFFSETFROM:+0100
TZOFFSETTO:+0200
TZNAME:CEST
DTSTART:20250330T010000
END:DAYLIGHT
BEGIN:STANDARD
TZOFFSETFROM:+0200
TZOFFSETTO:+0100
TZNAME:CET
DTSTART:20251026T010000
END:STANDARD
BEGIN:DAYLIGHT
TZOFFSETFROM:+0100
TZOFFSETTO:+0200
TZNAME:CEST
DTSTART:20260329T010000
END:DAYLIGHT
BEGIN:STANDARD
TZOFFSETFROM:+0200
TZOFFSETTO:+0100
TZNAME:CET
DTSTART:20261025T010000
END:STANDARD
END:VTIMEZONE
BEGIN:VEVENT
DTSTART;TZID=Europe/Paris:20250405T093000
DTEND;TZID=Europe/Paris:20250405T143000
DTSTAMP:20260424T152539
CREATED:20250409T153321Z
LAST-MODIFIED:20250409T153321Z
UID:7655-1743845400-1743863400@ateneodegranada.com
SUMMARY:CHARLA - DEBATE  |  La enseñanza de las ciencias y su enraizamiento territorial
DESCRIPTION:El Ateneo de Granada\, junto a Ateneos de Andalucía y Granada 2031\, celebró una nueva sesión del Proyecto ApSI en Vera (Almería). \n📚 Una jornada participativa con profesorado de Primaria\, Secundaria y Universidad del Sureste Ibérico\, reflexionando sobre cómo conectar la ciencia con el territorio y la vida cotidiana. \n🗓 Sábado 5 de abril de 2025 | 9:30 a 14:30 h📍 Casa de la Cultura “Bayra” (Vera\, Almería)🎙 Coordinación a cargo de Galisteo\, Gómez\, Irurita\, Olivares\, Robles y Sánchez💻 También con participación online vía Zoom \nGracias a todas las personas que compartieron saberes\, experiencias y compromiso educativo.📸 Aquí os dejamos una selección de imágenes del encuentro. \n#AteneoDeGranada #ApSI #EducaciónTerritorial #CienciaYComunidad #Granada2031 #AteneosDeAndalucía #DocenciaCrítica #SuresteIbérico
URL:https://ateneodegranada.com/event/charla-debate-la-ensenanza-de-las-ciencias-y-su-enraizamiento-territorial/
CATEGORIES:Ateneo de Granada,Debates del Ateneo
ATTACH;FMTTYPE=image/jpeg:https://ateneodegranada.com/wp-content/uploads/2025/04/WhatsApp-Image-2025-04-09-at-10.46.02.jpeg
END:VEVENT
END:VCALENDAR