BEGIN:VCALENDAR
VERSION:2.0
PRODID:-//Ateneo de Granada - ECPv6.15.20//NONSGML v1.0//EN
CALSCALE:GREGORIAN
METHOD:PUBLISH
X-WR-CALNAME:Ateneo de Granada
X-ORIGINAL-URL:https://ateneodegranada.com
X-WR-CALDESC:Eventos para Ateneo de Granada
REFRESH-INTERVAL;VALUE=DURATION:PT1H
X-Robots-Tag:noindex
X-PUBLISHED-TTL:PT1H
BEGIN:VTIMEZONE
TZID:Europe/Paris
BEGIN:DAYLIGHT
TZOFFSETFROM:+0100
TZOFFSETTO:+0200
TZNAME:CEST
DTSTART:20240331T010000
END:DAYLIGHT
BEGIN:STANDARD
TZOFFSETFROM:+0200
TZOFFSETTO:+0100
TZNAME:CET
DTSTART:20241027T010000
END:STANDARD
BEGIN:DAYLIGHT
TZOFFSETFROM:+0100
TZOFFSETTO:+0200
TZNAME:CEST
DTSTART:20250330T010000
END:DAYLIGHT
BEGIN:STANDARD
TZOFFSETFROM:+0200
TZOFFSETTO:+0100
TZNAME:CET
DTSTART:20251026T010000
END:STANDARD
BEGIN:DAYLIGHT
TZOFFSETFROM:+0100
TZOFFSETTO:+0200
TZNAME:CEST
DTSTART:20260329T010000
END:DAYLIGHT
BEGIN:STANDARD
TZOFFSETFROM:+0200
TZOFFSETTO:+0100
TZNAME:CET
DTSTART:20261025T010000
END:STANDARD
END:VTIMEZONE
BEGIN:VEVENT
DTSTART;TZID=Europe/Paris:20250326T190000
DTEND;TZID=Europe/Paris:20250326T220000
DTSTAMP:20260424T153404
CREATED:20250324T103846Z
LAST-MODIFIED:20250324T103846Z
UID:7619-1743015600-1743026400@ateneodegranada.com
SUMMARY:PRESENTACIÓN | Las dos gravedades
DESCRIPTION:🎙 LECTURAS DEL ATENEO\n📖 Presentación del libro\nLAS DOS GRAVEDADES\nde Diego Caler Herrerías\n🗓 Miércoles\, 26 de marzo de 2025 · 19:00 h\n📍Sede del Ateneo (C/ Martín Bohórquez\, 30) \nUn músico\, un escritor\, un profesor.\nUna reportera que cuenta Andalucía.\nUn psicoanalista que nos ayuda a escuchar.\nY un libro que nos invita a sentir el peso —y la belleza— de la vida. \nPresenta: Jesús Ambel\nIntervienen: Diego Caler y Mónica Martínez \n📚 Entrada libre hasta completar aforo
URL:https://ateneodegranada.com/event/presentacion-las-dos-gravedades/
LOCATION:Ateneo de Granada\, C/Martín Bohórquez\, 30\, Granada\, Granada\, 18005\, Spain
CATEGORIES:Ateneo de Granada,Lecturas del Ateneo
ATTACH;FMTTYPE=image/jpeg:https://ateneodegranada.com/wp-content/uploads/2025/03/Imagen-de-WhatsApp-2025-03-24-a-las-09.41.42_ef86b3a2.jpg
END:VEVENT
END:VCALENDAR