BEGIN:VCALENDAR
VERSION:2.0
PRODID:-//Ateneo de Granada - ECPv6.15.20//NONSGML v1.0//EN
CALSCALE:GREGORIAN
METHOD:PUBLISH
X-ORIGINAL-URL:https://ateneodegranada.com
X-WR-CALDESC:Eventos para Ateneo de Granada
REFRESH-INTERVAL;VALUE=DURATION:PT1H
X-Robots-Tag:noindex
X-PUBLISHED-TTL:PT1H
BEGIN:VTIMEZONE
TZID:Europe/Paris
BEGIN:DAYLIGHT
TZOFFSETFROM:+0100
TZOFFSETTO:+0200
TZNAME:CEST
DTSTART:20240331T010000
END:DAYLIGHT
BEGIN:STANDARD
TZOFFSETFROM:+0200
TZOFFSETTO:+0100
TZNAME:CET
DTSTART:20241027T010000
END:STANDARD
BEGIN:DAYLIGHT
TZOFFSETFROM:+0100
TZOFFSETTO:+0200
TZNAME:CEST
DTSTART:20250330T010000
END:DAYLIGHT
BEGIN:STANDARD
TZOFFSETFROM:+0200
TZOFFSETTO:+0100
TZNAME:CET
DTSTART:20251026T010000
END:STANDARD
BEGIN:DAYLIGHT
TZOFFSETFROM:+0100
TZOFFSETTO:+0200
TZNAME:CEST
DTSTART:20260329T010000
END:DAYLIGHT
BEGIN:STANDARD
TZOFFSETFROM:+0200
TZOFFSETTO:+0100
TZNAME:CET
DTSTART:20261025T010000
END:STANDARD
END:VTIMEZONE
BEGIN:VEVENT
DTSTART;TZID=Europe/Paris:20250319T190000
DTEND;TZID=Europe/Paris:20250319T203000
DTSTAMP:20260424T153529
CREATED:20250314T163441Z
LAST-MODIFIED:20250314T163441Z
UID:7589-1742410800-1742416200@ateneodegranada.com
SUMMARY:PRESENTACIÓN | El amor en las manos
DESCRIPTION:3️⃣ Presentación del poemario “El amor en las manos”\n📚 La poesía cobra vida con Carmen Salas del Río\, quien nos presenta su nuevo libro\, acompañada por la ilustradora Marijose Muñoz Rubio y el psicoanalista Jesús Ambel.\n📅 Miércoles\, 19 de marzo de 2025 | 🕖 19:00\n📍 Sede del Ateneo (C/ Martín Bohórquez\, 30)\n🎟 Entrada libre hasta completar aforo. \n#Poesía #Literatura #PresentaciónDeLibro #GranadaCultural #AteneoDeGranada
URL:https://ateneodegranada.com/event/presentacion-el-amor-en-las-manos/
LOCATION:Ateneo de Granada\, C/Martín Bohórquez\, 30\, Granada\, Granada\, 18005\, Spain
CATEGORIES:Ateneo de Granada,Granada 2031,Lecturas del Ateneo,Presentación
ATTACH;FMTTYPE=image/jpeg:https://ateneodegranada.com/wp-content/uploads/2025/03/Imagen-de-WhatsApp-2025-03-14-a-las-09.50.45_32db0304.jpg
END:VEVENT
END:VCALENDAR