BEGIN:VCALENDAR
VERSION:2.0
PRODID:-//Ateneo de Granada - ECPv6.15.20//NONSGML v1.0//EN
CALSCALE:GREGORIAN
METHOD:PUBLISH
X-WR-CALNAME:Ateneo de Granada
X-ORIGINAL-URL:https://ateneodegranada.com
X-WR-CALDESC:Eventos para Ateneo de Granada
REFRESH-INTERVAL;VALUE=DURATION:PT1H
X-Robots-Tag:noindex
X-PUBLISHED-TTL:PT1H
BEGIN:VTIMEZONE
TZID:Europe/Paris
BEGIN:DAYLIGHT
TZOFFSETFROM:+0100
TZOFFSETTO:+0200
TZNAME:CEST
DTSTART:20240331T010000
END:DAYLIGHT
BEGIN:STANDARD
TZOFFSETFROM:+0200
TZOFFSETTO:+0100
TZNAME:CET
DTSTART:20241027T010000
END:STANDARD
BEGIN:DAYLIGHT
TZOFFSETFROM:+0100
TZOFFSETTO:+0200
TZNAME:CEST
DTSTART:20250330T010000
END:DAYLIGHT
BEGIN:STANDARD
TZOFFSETFROM:+0200
TZOFFSETTO:+0100
TZNAME:CET
DTSTART:20251026T010000
END:STANDARD
BEGIN:DAYLIGHT
TZOFFSETFROM:+0100
TZOFFSETTO:+0200
TZNAME:CEST
DTSTART:20260329T010000
END:DAYLIGHT
BEGIN:STANDARD
TZOFFSETFROM:+0200
TZOFFSETTO:+0100
TZNAME:CET
DTSTART:20261025T010000
END:STANDARD
END:VTIMEZONE
BEGIN:VEVENT
DTSTART;TZID=Europe/Paris:20250317T180000
DTEND;TZID=Europe/Paris:20250317T190000
DTSTAMP:20260424T153344
CREATED:20250314T162513Z
LAST-MODIFIED:20250314T162513Z
UID:7583-1742234400-1742238000@ateneodegranada.com
SUMMARY:MESA REDONDA | Capitalidad Cultural 2031 y Medios de Comunicación
DESCRIPTION:1️⃣ Mesa Redonda: Capitalidad Cultural 2031 y Medios de Comunicación\n📢 Granada aspira a convertirse en Capital Europea de la Cultura 2031\, y el papel de los medios es clave en este camino. No te pierdas esta mesa redonda con profesionales del periodismo y la comunicación.\n📅 Lunes\, 17 de marzo de 2025 | 🕕 18:00\n📍 Salón de actos de la ONCE (Plaza del Carmen\, 4)\n🎟 Entrada libre hasta completar aforo. \n#Granada2031 #Cultura #MediosDeComunicación #Periodismo #AteneoDeGranada
URL:https://ateneodegranada.com/event/mesa-redonda-capitalidad-cultural-2031-y-medios-de-comunicacion/
LOCATION:Salón de actos de la ONCE\, Plaza del Carmen S/N\, Granada\, Granada\, 18009\, Spain
CATEGORIES:Ateneo de Granada,Granada 2031,Mesa Redonda
ATTACH;FMTTYPE=image/jpeg:https://ateneodegranada.com/wp-content/uploads/2025/03/Imagen-de-WhatsApp-2025-03-14-a-las-09.50.45_a25d068f.jpg
END:VEVENT
END:VCALENDAR