BEGIN:VCALENDAR
VERSION:2.0
PRODID:-//Ateneo de Granada - ECPv6.15.20//NONSGML v1.0//EN
CALSCALE:GREGORIAN
METHOD:PUBLISH
X-ORIGINAL-URL:https://ateneodegranada.com
X-WR-CALDESC:Eventos para Ateneo de Granada
REFRESH-INTERVAL;VALUE=DURATION:PT1H
X-Robots-Tag:noindex
X-PUBLISHED-TTL:PT1H
BEGIN:VTIMEZONE
TZID:Europe/Paris
BEGIN:DAYLIGHT
TZOFFSETFROM:+0100
TZOFFSETTO:+0200
TZNAME:CEST
DTSTART:20240331T010000
END:DAYLIGHT
BEGIN:STANDARD
TZOFFSETFROM:+0200
TZOFFSETTO:+0100
TZNAME:CET
DTSTART:20241027T010000
END:STANDARD
BEGIN:DAYLIGHT
TZOFFSETFROM:+0100
TZOFFSETTO:+0200
TZNAME:CEST
DTSTART:20250330T010000
END:DAYLIGHT
BEGIN:STANDARD
TZOFFSETFROM:+0200
TZOFFSETTO:+0100
TZNAME:CET
DTSTART:20251026T010000
END:STANDARD
BEGIN:DAYLIGHT
TZOFFSETFROM:+0100
TZOFFSETTO:+0200
TZNAME:CEST
DTSTART:20260329T010000
END:DAYLIGHT
BEGIN:STANDARD
TZOFFSETFROM:+0200
TZOFFSETTO:+0100
TZNAME:CET
DTSTART:20261025T010000
END:STANDARD
END:VTIMEZONE
BEGIN:VEVENT
DTSTART;TZID=Europe/Paris:20250305T190000
DTEND;TZID=Europe/Paris:20250305T210000
DTSTAMP:20260424T153523
CREATED:20250227T174933Z
LAST-MODIFIED:20250227T174933Z
UID:7555-1741201200-1741208400@ateneodegranada.com
SUMMARY:PRESENTACIÓN | La carcoma recurrente del pasado – Jesús Cabezas Jiménez
DESCRIPTION:📖 La carcoma recurrente del pasado – Jesús Cabezas Jiménez \nLas palabras que nos persiguen\, los recuerdos que nunca se van.\n📅 5 de marzo de 2025 – 19:00h\n📍 Ateneo de Granada \nUn poemario que indaga en la memoria y el tiempo. No te pierdas esta presentación especial con su autor. \n#Poesía #JesúsCabezas #AteneoGranada #LecturasRecomendadas #GranadaCultural
URL:https://ateneodegranada.com/event/presentacion-la-carcoma-recurrente-del-pasado-jesus-cabezas-jimenez/
LOCATION:Ateneo de Granada\, C/Martín Bohórquez\, 30\, Granada\, Granada\, 18005\, Spain
CATEGORIES:Ateneo de Granada,Granada 2031,Lecturas del Ateneo,Presentación
ATTACH;FMTTYPE=image/jpeg:https://ateneodegranada.com/wp-content/uploads/2025/02/Imagen-de-WhatsApp-2025-02-27-a-las-15.34.54_194d0d1e.jpg
END:VEVENT
END:VCALENDAR