BEGIN:VCALENDAR
VERSION:2.0
PRODID:-//Ateneo de Granada - ECPv6.15.20//NONSGML v1.0//EN
CALSCALE:GREGORIAN
METHOD:PUBLISH
X-WR-CALNAME:Ateneo de Granada
X-ORIGINAL-URL:https://ateneodegranada.com
X-WR-CALDESC:Eventos para Ateneo de Granada
REFRESH-INTERVAL;VALUE=DURATION:PT1H
X-Robots-Tag:noindex
X-PUBLISHED-TTL:PT1H
BEGIN:VTIMEZONE
TZID:Europe/Paris
BEGIN:DAYLIGHT
TZOFFSETFROM:+0100
TZOFFSETTO:+0200
TZNAME:CEST
DTSTART:20240331T010000
END:DAYLIGHT
BEGIN:STANDARD
TZOFFSETFROM:+0200
TZOFFSETTO:+0100
TZNAME:CET
DTSTART:20241027T010000
END:STANDARD
BEGIN:DAYLIGHT
TZOFFSETFROM:+0100
TZOFFSETTO:+0200
TZNAME:CEST
DTSTART:20250330T010000
END:DAYLIGHT
BEGIN:STANDARD
TZOFFSETFROM:+0200
TZOFFSETTO:+0100
TZNAME:CET
DTSTART:20251026T010000
END:STANDARD
BEGIN:DAYLIGHT
TZOFFSETFROM:+0100
TZOFFSETTO:+0200
TZNAME:CEST
DTSTART:20260329T010000
END:DAYLIGHT
BEGIN:STANDARD
TZOFFSETFROM:+0200
TZOFFSETTO:+0100
TZNAME:CET
DTSTART:20261025T010000
END:STANDARD
END:VTIMEZONE
BEGIN:VEVENT
DTSTART;TZID=Europe/Paris:20250205T190000
DTEND;TZID=Europe/Paris:20250205T210000
DTSTAMP:20260424T172033
CREATED:20250128T084020Z
LAST-MODIFIED:20250128T084020Z
UID:7493-1738782000-1738789200@ateneodegranada.com
SUMMARY:PRESENTACIÓN | Darse brisa
DESCRIPTION:🎨 Presentación del libro: Darse brisa\, de Elena Laura \n🌟 Sumérgete en el mundo de Elena Laura.\nLa autora y pintora nos presentará su obra Darse brisa\, un libro cargado de creatividad y sensibilidad\, acompañada por la escritora y aforista Carmen Canet.\n📅 Miércoles\, 5 de febrero de 2025\n🕖 19:00 h\n📍 Sede del Ateneo de Granada (C/ Martín Bohórquez\, 30)\n🎟 Entrada libre hasta completar aforo.
URL:https://ateneodegranada.com/event/presentacion-darse-brisa/
LOCATION:Ateneo de Granada\, C/Martín Bohórquez\, 30\, Granada\, Granada\, 18005\, Spain
CATEGORIES:Ateneo de Granada,Lecturas del Ateneo,Presentación
ATTACH;FMTTYPE=image/jpeg:https://ateneodegranada.com/wp-content/uploads/2025/01/photo_2025-01-28_08-43-44.jpg
END:VEVENT
END:VCALENDAR