BEGIN:VCALENDAR
VERSION:2.0
PRODID:-//Ateneo de Granada - ECPv6.15.20//NONSGML v1.0//EN
CALSCALE:GREGORIAN
METHOD:PUBLISH
X-ORIGINAL-URL:https://ateneodegranada.com
X-WR-CALDESC:Eventos para Ateneo de Granada
REFRESH-INTERVAL;VALUE=DURATION:PT1H
X-Robots-Tag:noindex
X-PUBLISHED-TTL:PT1H
BEGIN:VTIMEZONE
TZID:Europe/Paris
BEGIN:DAYLIGHT
TZOFFSETFROM:+0100
TZOFFSETTO:+0200
TZNAME:CEST
DTSTART:20240331T010000
END:DAYLIGHT
BEGIN:STANDARD
TZOFFSETFROM:+0200
TZOFFSETTO:+0100
TZNAME:CET
DTSTART:20241027T010000
END:STANDARD
BEGIN:DAYLIGHT
TZOFFSETFROM:+0100
TZOFFSETTO:+0200
TZNAME:CEST
DTSTART:20250330T010000
END:DAYLIGHT
BEGIN:STANDARD
TZOFFSETFROM:+0200
TZOFFSETTO:+0100
TZNAME:CET
DTSTART:20251026T010000
END:STANDARD
BEGIN:DAYLIGHT
TZOFFSETFROM:+0100
TZOFFSETTO:+0200
TZNAME:CEST
DTSTART:20260329T010000
END:DAYLIGHT
BEGIN:STANDARD
TZOFFSETFROM:+0200
TZOFFSETTO:+0100
TZNAME:CET
DTSTART:20261025T010000
END:STANDARD
END:VTIMEZONE
BEGIN:VEVENT
DTSTART;TZID=Europe/Paris:20250204T190000
DTEND;TZID=Europe/Paris:20250204T203000
DTSTAMP:20260424T170242
CREATED:20250131T191139Z
LAST-MODIFIED:20250131T191139Z
UID:7503-1738695600-1738701000@ateneodegranada.com
SUMMARY:AULA DE MAYORES | El cuadro de Rubens "El nacimiento de la Vía Láctea"
DESCRIPTION:🎨 El cuadro de Rubens “El nacimiento de la Vía Láctea” \nUna pincelada de mitología\, un toque de simbolismo y la maestría de Rubens en su máxima expresión. “El nacimiento de la Vía Láctea” es mucho más que una pintura: es un relato visual del arte barroco. María Teresa Hontoria Puentes nos guiará a través de su historia y significado. \n📅 Martes\, 4 de febrero – 19:00\n📍 Sede del Ateneo de Granada (C/ Martín Bohórquez 30)\n🎙 Presenta: Mar Villafranca \n🔹 Entrada libre hasta completar aforo
URL:https://ateneodegranada.com/event/aula-de-mayores-el-cuadro-de-rubens-el-nacimiento-de-la-via-lactea/
LOCATION:Ateneo de Granada\, C/Martín Bohórquez\, 30\, Granada\, Granada\, 18005\, Spain
CATEGORIES:Ateneo de Granada,Aula de mayores,Granada 2031
ATTACH;FMTTYPE=image/jpeg:https://ateneodegranada.com/wp-content/uploads/2025/01/Imagen-de-WhatsApp-2025-01-31-a-las-19.45.26_c4dd4cc2.jpg
END:VEVENT
END:VCALENDAR