BEGIN:VCALENDAR
VERSION:2.0
PRODID:-//Ateneo de Granada - ECPv6.15.20//NONSGML v1.0//EN
CALSCALE:GREGORIAN
METHOD:PUBLISH
X-ORIGINAL-URL:https://ateneodegranada.com
X-WR-CALDESC:Eventos para Ateneo de Granada
REFRESH-INTERVAL;VALUE=DURATION:PT1H
X-Robots-Tag:noindex
X-PUBLISHED-TTL:PT1H
BEGIN:VTIMEZONE
TZID:Europe/Paris
BEGIN:DAYLIGHT
TZOFFSETFROM:+0100
TZOFFSETTO:+0200
TZNAME:CEST
DTSTART:20240331T010000
END:DAYLIGHT
BEGIN:STANDARD
TZOFFSETFROM:+0200
TZOFFSETTO:+0100
TZNAME:CET
DTSTART:20241027T010000
END:STANDARD
BEGIN:DAYLIGHT
TZOFFSETFROM:+0100
TZOFFSETTO:+0200
TZNAME:CEST
DTSTART:20250330T010000
END:DAYLIGHT
BEGIN:STANDARD
TZOFFSETFROM:+0200
TZOFFSETTO:+0100
TZNAME:CET
DTSTART:20251026T010000
END:STANDARD
BEGIN:DAYLIGHT
TZOFFSETFROM:+0100
TZOFFSETTO:+0200
TZNAME:CEST
DTSTART:20260329T010000
END:DAYLIGHT
BEGIN:STANDARD
TZOFFSETFROM:+0200
TZOFFSETTO:+0100
TZNAME:CET
DTSTART:20261025T010000
END:STANDARD
END:VTIMEZONE
BEGIN:VEVENT
DTSTART;TZID=Europe/Paris:20250131T190000
DTEND;TZID=Europe/Paris:20250131T213000
DTSTAMP:20260424T172155
CREATED:20250115T195752Z
LAST-MODIFIED:20250115T195752Z
UID:7469-1738350000-1738359000@ateneodegranada.com
SUMMARY:PRESENTACIÓN | Jaque a la Democracia. España ante la amenaza de la deriva autoritaria mundial
DESCRIPTION:Sección Lecturas del Ateneo\n🎙 Presentación del libro: Jaque a la Democracia. España ante la amenaza de la deriva autoritaria mundial\n✍️ Autor: Joaquim Bosch\n📅 Fecha: Viernes\, 31 de enero de 2025 🕖 19:00 \n👤 Interviene: \nJoaquim Bosch\, magistrado y autor del libro \n🎤 Introduce: \nManuel Rodríguez Alcázar\, socio del Ateneo y responsable de la Casa de Mariana Pineda \n🗣 Modera: \nJesús Andrés Sánchez Cazorla\, coordinador de “Miradas al Mundo” \n📍 Lugar:\nSalón de Actos “Francisco A. Muñoz”\nCentro de Documentación Científica\nC/ Rector López Argüeta S/N \n🎟 Entrada libre hasta completar aforo
URL:https://ateneodegranada.com/event/presentacion-jaque-a-la-democracia-espana-ante-la-amenaza-de-la-deriva-autoritaria-mundial/
LOCATION:Salón de Actos “Francisco A. Muñoz”\, Centro de Documentación Científica\, C/ Rector López Argüeta 4\, Granada\, Granada\, 18001\, Spain
CATEGORIES:Ateneo de Granada,Granada 2031,Lecturas del Ateneo,Presentación
ATTACH;FMTTYPE=image/jpeg:https://ateneodegranada.com/wp-content/uploads/2025/01/Imagen-de-WhatsApp-2025-01-15-a-las-12.27.27_ceb804ee.jpg
END:VEVENT
END:VCALENDAR