BEGIN:VCALENDAR
VERSION:2.0
PRODID:-//Ateneo de Granada - ECPv6.15.20//NONSGML v1.0//EN
CALSCALE:GREGORIAN
METHOD:PUBLISH
X-ORIGINAL-URL:https://ateneodegranada.com
X-WR-CALDESC:Eventos para Ateneo de Granada
REFRESH-INTERVAL;VALUE=DURATION:PT1H
X-Robots-Tag:noindex
X-PUBLISHED-TTL:PT1H
BEGIN:VTIMEZONE
TZID:Europe/Paris
BEGIN:DAYLIGHT
TZOFFSETFROM:+0100
TZOFFSETTO:+0200
TZNAME:CEST
DTSTART:20240331T010000
END:DAYLIGHT
BEGIN:STANDARD
TZOFFSETFROM:+0200
TZOFFSETTO:+0100
TZNAME:CET
DTSTART:20241027T010000
END:STANDARD
BEGIN:DAYLIGHT
TZOFFSETFROM:+0100
TZOFFSETTO:+0200
TZNAME:CEST
DTSTART:20250330T010000
END:DAYLIGHT
BEGIN:STANDARD
TZOFFSETFROM:+0200
TZOFFSETTO:+0100
TZNAME:CET
DTSTART:20251026T010000
END:STANDARD
BEGIN:DAYLIGHT
TZOFFSETFROM:+0100
TZOFFSETTO:+0200
TZNAME:CEST
DTSTART:20260329T010000
END:DAYLIGHT
BEGIN:STANDARD
TZOFFSETFROM:+0200
TZOFFSETTO:+0100
TZNAME:CET
DTSTART:20261025T010000
END:STANDARD
END:VTIMEZONE
BEGIN:VEVENT
DTSTART;TZID=Europe/Paris:20250130T200000
DTEND;TZID=Europe/Paris:20250130T220000
DTSTAMP:20260424T173242
CREATED:20250116T215206Z
LAST-MODIFIED:20250116T215206Z
UID:7473-1738267200-1738274400@ateneodegranada.com
SUMMARY:CONVERSACIÓN con Nicolás Medina
DESCRIPTION:🎶 Ciclo: Granada es música\n🗣 Conversación con Nicolás Medina\n“Cinco décadas de música pop en Granada” \n🔸 Interviene: Nicolás Medina (músico\, bajista\, guitarrista y compositor).\n🔸 Presenta: Álvaro Salvador. \n📅 Jueves\, 30 de enero de 2025\n🕗 20:00 h\n📍 Sede del Ateneo de Granada\nC/ Martín Bohórquez 30 \n🎟 Entrada libre hasta completar aforo \n#musica #granada #pop #rock #ateneodegranada #ateneo #rockero
URL:https://ateneodegranada.com/event/conversacion-con-nicolas-medina/
LOCATION:Ateneo de Granada\, C/Martín Bohórquez\, 30\, Granada\, Granada\, 18005\, Spain
CATEGORIES:Ateneo de Granada,Ciclo de conferencias,Granada es Música,Sección de Humanidades
ATTACH;FMTTYPE=image/jpeg:https://ateneodegranada.com/wp-content/uploads/2025/01/Imagen-de-WhatsApp-2025-01-16-a-las-13.36.44_44df4c99.jpg
END:VEVENT
END:VCALENDAR