BEGIN:VCALENDAR
VERSION:2.0
PRODID:-//Ateneo de Granada - ECPv6.15.20//NONSGML v1.0//EN
CALSCALE:GREGORIAN
METHOD:PUBLISH
X-ORIGINAL-URL:https://ateneodegranada.com
X-WR-CALDESC:Eventos para Ateneo de Granada
REFRESH-INTERVAL;VALUE=DURATION:PT1H
X-Robots-Tag:noindex
X-PUBLISHED-TTL:PT1H
BEGIN:VTIMEZONE
TZID:Europe/Paris
BEGIN:DAYLIGHT
TZOFFSETFROM:+0100
TZOFFSETTO:+0200
TZNAME:CEST
DTSTART:20240331T010000
END:DAYLIGHT
BEGIN:STANDARD
TZOFFSETFROM:+0200
TZOFFSETTO:+0100
TZNAME:CET
DTSTART:20241027T010000
END:STANDARD
BEGIN:DAYLIGHT
TZOFFSETFROM:+0100
TZOFFSETTO:+0200
TZNAME:CEST
DTSTART:20250330T010000
END:DAYLIGHT
BEGIN:STANDARD
TZOFFSETFROM:+0200
TZOFFSETTO:+0100
TZNAME:CET
DTSTART:20251026T010000
END:STANDARD
BEGIN:DAYLIGHT
TZOFFSETFROM:+0100
TZOFFSETTO:+0200
TZNAME:CEST
DTSTART:20260329T010000
END:DAYLIGHT
BEGIN:STANDARD
TZOFFSETFROM:+0200
TZOFFSETTO:+0100
TZNAME:CET
DTSTART:20261025T010000
END:STANDARD
END:VTIMEZONE
BEGIN:VEVENT
DTSTART;TZID=Europe/Paris:20250129T190000
DTEND;TZID=Europe/Paris:20250129T210000
DTSTAMP:20260424T173243
CREATED:20250122T121347Z
LAST-MODIFIED:20250122T121347Z
UID:7479-1738177200-1738184400@ateneodegranada.com
SUMMARY:CONFERENCIA | Vicente Almagro San Martín (1885-1936): Silencio y olvido
DESCRIPTION:📚 Conferencia: Vicente Almagro San Martín (1885-1936)\n🕊️ Silencio y olvido \n🎤 Interviene: María del Mar Vida Arredondo\, Funcionaria jubilada del INSS\n📖 Presenta: Roque Hidalgo\, Miembro del CEHGR\n🎙️ Coordina: Maribel Lázaro\, Vocal de la JD \n📅 Fecha: Miércoles\, 29 de enero de 2025\n⏰ Hora: 19:00\n📍 Lugar: Sede del Ateneo\, C/Martín Bohórquez\, 30 \n✨ Entrada libre hasta completar aforo.
URL:https://ateneodegranada.com/event/conferencia-vicente-almagro-san-martin-1885-1936-silencio-y-olvido/
LOCATION:Ateneo de Granada\, C/Martín Bohórquez\, 30\, Granada\, Granada\, 18005\, Spain
CATEGORIES:Ateneo de Granada,Conferencia,Sección de Memoria Histórica
ATTACH;FMTTYPE=image/jpeg:https://ateneodegranada.com/wp-content/uploads/2025/01/Imagen-de-WhatsApp-2025-01-22-a-las-11.12.18_5e33d77b.jpg
END:VEVENT
END:VCALENDAR