BEGIN:VCALENDAR
VERSION:2.0
PRODID:-//Ateneo de Granada - ECPv6.15.20//NONSGML v1.0//EN
CALSCALE:GREGORIAN
METHOD:PUBLISH
X-WR-CALNAME:Ateneo de Granada
X-ORIGINAL-URL:https://ateneodegranada.com
X-WR-CALDESC:Eventos para Ateneo de Granada
REFRESH-INTERVAL;VALUE=DURATION:PT1H
X-Robots-Tag:noindex
X-PUBLISHED-TTL:PT1H
BEGIN:VTIMEZONE
TZID:Europe/Paris
BEGIN:DAYLIGHT
TZOFFSETFROM:+0100
TZOFFSETTO:+0200
TZNAME:CEST
DTSTART:20240331T010000
END:DAYLIGHT
BEGIN:STANDARD
TZOFFSETFROM:+0200
TZOFFSETTO:+0100
TZNAME:CET
DTSTART:20241027T010000
END:STANDARD
BEGIN:DAYLIGHT
TZOFFSETFROM:+0100
TZOFFSETTO:+0200
TZNAME:CEST
DTSTART:20250330T010000
END:DAYLIGHT
BEGIN:STANDARD
TZOFFSETFROM:+0200
TZOFFSETTO:+0100
TZNAME:CET
DTSTART:20251026T010000
END:STANDARD
BEGIN:DAYLIGHT
TZOFFSETFROM:+0100
TZOFFSETTO:+0200
TZNAME:CEST
DTSTART:20260329T010000
END:DAYLIGHT
BEGIN:STANDARD
TZOFFSETFROM:+0200
TZOFFSETTO:+0100
TZNAME:CET
DTSTART:20261025T010000
END:STANDARD
END:VTIMEZONE
BEGIN:VEVENT
DTSTART;TZID=Europe/Paris:20250124T190000
DTEND;TZID=Europe/Paris:20250124T213000
DTSTAMP:20260424T183455
CREATED:20241120T094113Z
LAST-MODIFIED:20241120T094113Z
UID:7371-1737745200-1737754200@ateneodegranada.com
SUMMARY:CLUB DE LECTURAS CRÍTICAS | Una semana redonda
DESCRIPTION:📖El viernes día 24 de enero de 2025\, y como 12ª edición de nuestro Club de Lecturas Críticas\, conversaremos con José Federico Barcelona en torno a su libro “Una semana redonda”\, de Sonámbulos Ediciones (2024) \n📆Viernes\, 24 de enero de 2025 a las 19:00\n📍Sede del Ateneo\, C/Martín Bohórquez\, 30 \n⭐️Si usted ya está inscrito en el Club\, no tiene que volver a hacerlo.\n📩Si usted quiere inscribirse\, envíe un correo a ateneodegranada@gmail.com
URL:https://ateneodegranada.com/event/club-de-lecturas-criticas-una-semana-redonda/
LOCATION:Ateneo de Granada\, C/Martín Bohórquez\, 30\, Granada\, Granada\, 18005\, Spain
CATEGORIES:Ateneo de Granada,Club de Lecturas Críticas
ATTACH;FMTTYPE=image/jpeg:https://ateneodegranada.com/wp-content/uploads/2024/11/photo_2024-11-20_10-39-01.jpg
END:VEVENT
END:VCALENDAR