BEGIN:VCALENDAR
VERSION:2.0
PRODID:-//Ateneo de Granada - ECPv6.15.20//NONSGML v1.0//EN
CALSCALE:GREGORIAN
METHOD:PUBLISH
X-WR-CALNAME:Ateneo de Granada
X-ORIGINAL-URL:https://ateneodegranada.com
X-WR-CALDESC:Eventos para Ateneo de Granada
REFRESH-INTERVAL;VALUE=DURATION:PT1H
X-Robots-Tag:noindex
X-PUBLISHED-TTL:PT1H
BEGIN:VTIMEZONE
TZID:Europe/Paris
BEGIN:DAYLIGHT
TZOFFSETFROM:+0100
TZOFFSETTO:+0200
TZNAME:CEST
DTSTART:20240331T010000
END:DAYLIGHT
BEGIN:STANDARD
TZOFFSETFROM:+0200
TZOFFSETTO:+0100
TZNAME:CET
DTSTART:20241027T010000
END:STANDARD
BEGIN:DAYLIGHT
TZOFFSETFROM:+0100
TZOFFSETTO:+0200
TZNAME:CEST
DTSTART:20250330T010000
END:DAYLIGHT
BEGIN:STANDARD
TZOFFSETFROM:+0200
TZOFFSETTO:+0100
TZNAME:CET
DTSTART:20251026T010000
END:STANDARD
BEGIN:DAYLIGHT
TZOFFSETFROM:+0100
TZOFFSETTO:+0200
TZNAME:CEST
DTSTART:20260329T010000
END:DAYLIGHT
BEGIN:STANDARD
TZOFFSETFROM:+0200
TZOFFSETTO:+0100
TZNAME:CET
DTSTART:20261025T010000
END:STANDARD
END:VTIMEZONE
BEGIN:VEVENT
DTSTART;TZID=Europe/Paris:20250121T190000
DTEND;TZID=Europe/Paris:20250121T213000
DTSTAMP:20260424T183406
CREATED:20250115T194912Z
LAST-MODIFIED:20250115T194912Z
UID:7460-1737486000-1737495000@ateneodegranada.com
SUMMARY:CONFERENCIA | La Granada Romana: una visión desde la arqueología
DESCRIPTION: Conferencia La Granada romana: una visión desde la arqueología\n Interviene: Andrés Mª Adroher Auroux\, Catedrático de Arqueología (UGR)\n Presenta: Ángel Padilla Arroba\, Profesor de Historia Antigua (UGR)\n Coordina: Antonio Lara Ramos\, vicepresidente del Ateneo\n Martes 21 de enero 19:00 horas Sede del AteneoC/ Martín Bohórquez\, 30\n Entrada libre hasta completar aforo
URL:https://ateneodegranada.com/event/conferencia-la-granada-romana-una-vision-desde-la-arqueologia/
LOCATION:Ateneo de Granada\, C/Martín Bohórquez\, 30\, Granada\, Granada\, 18005\, Spain
CATEGORIES:Ateneo de Granada,Ciclo de conferencias,Conferencia,Granada 2031
ATTACH;FMTTYPE=image/jpeg:https://ateneodegranada.com/wp-content/uploads/2025/01/Imagen-de-WhatsApp-2025-01-15-a-las-19.27.14_38ad9b99.jpg
END:VEVENT
END:VCALENDAR