BEGIN:VCALENDAR
VERSION:2.0
PRODID:-//Ateneo de Granada - ECPv6.15.20//NONSGML v1.0//EN
CALSCALE:GREGORIAN
METHOD:PUBLISH
X-WR-CALNAME:Ateneo de Granada
X-ORIGINAL-URL:https://ateneodegranada.com
X-WR-CALDESC:Eventos para Ateneo de Granada
REFRESH-INTERVAL;VALUE=DURATION:PT1H
X-Robots-Tag:noindex
X-PUBLISHED-TTL:PT1H
BEGIN:VTIMEZONE
TZID:Europe/Paris
BEGIN:DAYLIGHT
TZOFFSETFROM:+0100
TZOFFSETTO:+0200
TZNAME:CEST
DTSTART:20230326T010000
END:DAYLIGHT
BEGIN:STANDARD
TZOFFSETFROM:+0200
TZOFFSETTO:+0100
TZNAME:CET
DTSTART:20231029T010000
END:STANDARD
BEGIN:DAYLIGHT
TZOFFSETFROM:+0100
TZOFFSETTO:+0200
TZNAME:CEST
DTSTART:20240331T010000
END:DAYLIGHT
BEGIN:STANDARD
TZOFFSETFROM:+0200
TZOFFSETTO:+0100
TZNAME:CET
DTSTART:20241027T010000
END:STANDARD
BEGIN:DAYLIGHT
TZOFFSETFROM:+0100
TZOFFSETTO:+0200
TZNAME:CEST
DTSTART:20250330T010000
END:DAYLIGHT
BEGIN:STANDARD
TZOFFSETFROM:+0200
TZOFFSETTO:+0100
TZNAME:CET
DTSTART:20251026T010000
END:STANDARD
END:VTIMEZONE
BEGIN:VEVENT
DTSTART;TZID=Europe/Paris:20241219T193000
DTEND;TZID=Europe/Paris:20241219T210000
DTSTAMP:20260424T202536
CREATED:20241205T151103Z
LAST-MODIFIED:20241205T151103Z
UID:7401-1734636600-1734642000@ateneodegranada.com
SUMMARY:Homenaje | Rafael Alberti en Granada
DESCRIPTION:Homenaje | Rafael Alberti en Granada \n🎙Presenta:\nJesús Ambel \n🗣Participan:\nJuan Carlos Abril\nAna Gallego\nLuis García Montero\nIoana Gruia\nAntonio Jiménez Millán\nErika Martínez\nPepa Merlo\nÁngeles Mora\nGracia Morales\nAndrés Neuman\nÁlvaro Salvador\nAndrés Soria\nJuan Vida \n📆 Jueves\, 19 dic. 2024 a las 19:30 h.\n📍Biblioteca de Andalucía\, C/ Profesor Sainz Cantero\, nº 6 \n🏛 Organiza:\nAteneo de Granada \n🌿 Colaboran:\nBiblioteca de Andalucía\nBiblioteca Provincial de Granada
URL:https://ateneodegranada.com/event/homenaje-rafael-alberti-en-granada/
LOCATION:Biblioteca de Andalucía\, C/ Profesor Sainz Cantero\, nº 6\, Granada\, Granada\, 18002\, Spain
CATEGORIES:Ateneo de Granada
ATTACH;FMTTYPE=image/jpeg:https://ateneodegranada.com/wp-content/uploads/2024/12/Imagen-de-WhatsApp-2024-12-05-a-las-15.32.48_fede532b.jpg
END:VEVENT
END:VCALENDAR