BEGIN:VCALENDAR
VERSION:2.0
PRODID:-//Ateneo de Granada - ECPv6.15.20//NONSGML v1.0//EN
CALSCALE:GREGORIAN
METHOD:PUBLISH
X-ORIGINAL-URL:https://ateneodegranada.com
X-WR-CALDESC:Eventos para Ateneo de Granada
REFRESH-INTERVAL;VALUE=DURATION:PT1H
X-Robots-Tag:noindex
X-PUBLISHED-TTL:PT1H
BEGIN:VTIMEZONE
TZID:Europe/Paris
BEGIN:DAYLIGHT
TZOFFSETFROM:+0100
TZOFFSETTO:+0200
TZNAME:CEST
DTSTART:20230326T010000
END:DAYLIGHT
BEGIN:STANDARD
TZOFFSETFROM:+0200
TZOFFSETTO:+0100
TZNAME:CET
DTSTART:20231029T010000
END:STANDARD
BEGIN:DAYLIGHT
TZOFFSETFROM:+0100
TZOFFSETTO:+0200
TZNAME:CEST
DTSTART:20240331T010000
END:DAYLIGHT
BEGIN:STANDARD
TZOFFSETFROM:+0200
TZOFFSETTO:+0100
TZNAME:CET
DTSTART:20241027T010000
END:STANDARD
BEGIN:DAYLIGHT
TZOFFSETFROM:+0100
TZOFFSETTO:+0200
TZNAME:CEST
DTSTART:20250330T010000
END:DAYLIGHT
BEGIN:STANDARD
TZOFFSETFROM:+0200
TZOFFSETTO:+0100
TZNAME:CET
DTSTART:20251026T010000
END:STANDARD
END:VTIMEZONE
BEGIN:VEVENT
DTSTART;TZID=Europe/Paris:20241218T110000
DTEND;TZID=Europe/Paris:20241218T120000
DTSTAMP:20260424T201559
CREATED:20241206T101103Z
LAST-MODIFIED:20241206T101103Z
UID:7412-1734519600-1734523200@ateneodegranada.com
SUMMARY:AULA DE MAYORES | Taller: Diseño y elaboración de centros de Navidad
DESCRIPTION:📚AULA DE MAYORES | Taller: Diseño y elaboración de centros de Navidad \n🌷Florista:\nManuel Montero\nDueño de la Floristería “El Boulevard de las Flores” \n🎙Presenta:\nAlicia Martín\nDirectora del Aula de Mayores \n📆Miércoles 18 de diciembre a las 11:00\n🎙Sede del Ateneo\, C/Martín Bohórquez\, 30 \nEntrada libre hasta completar aforo
URL:https://ateneodegranada.com/event/aula-de-mayores-taller-diseno-y-elaboracion-de-centros-de-navidad/
LOCATION:Ateneo de Granada\, C/Martín Bohórquez\, 30\, Granada\, Granada\, 18005\, Spain
CATEGORIES:Ateneo de Granada,Aula de mayores
ATTACH;FMTTYPE=image/jpeg:https://ateneodegranada.com/wp-content/uploads/2024/12/Imagen-de-WhatsApp-2024-12-05-a-las-17.18.07_db800932.jpg
END:VEVENT
BEGIN:VEVENT
DTSTART;TZID=Europe/Paris:20241218T190000
DTEND;TZID=Europe/Paris:20241218T213000
DTSTAMP:20260424T201559
CREATED:20241206T100859Z
LAST-MODIFIED:20241206T100859Z
UID:7409-1734548400-1734557400@ateneodegranada.com
SUMMARY:MESA REDONDA | Fundación Primeros Pobladores: miradas desde la prehistoria hasta nuestros días
DESCRIPTION:Sección Institucional \n🏛MESA REDONDA | Fundación Primeros Pobladores: miradas desde la prehistoria hasta nuestros días \n🗣Intervienen \nJuan Manuel Jiménez Arenas\nDirector del ProyectORCE \nOliva Rodríguez Ariza\nDirectora del Proyecto de Investigación: Túguti-Tempus \n🎙Modera: Jesús Ambel\n👥Coordina: Anabel Rodríguez Silva \n📆Miércoles\, 18 de diciembre de 2024 a las 19:00\n📍Sede del Ateneo\, C/ Martín Bohórquez 30 \nEntrada libre
URL:https://ateneodegranada.com/event/mesa-redonda-fundacion-primeros-pobladores-miradas-desde-la-prehistoria-hasta-nuestros-dias/
LOCATION:Ateneo de Granada\, C/Martín Bohórquez\, 30\, Granada\, Granada\, 18005\, Spain
CATEGORIES:Ateneo de Granada,Mesa Redonda,Sección Institucional
ATTACH;FMTTYPE=image/jpeg:https://ateneodegranada.com/wp-content/uploads/2024/12/Imagen-de-WhatsApp-2024-12-05-a-las-17.16.37_3e0fe89f.jpg
END:VEVENT
END:VCALENDAR