BEGIN:VCALENDAR
VERSION:2.0
PRODID:-//Ateneo de Granada - ECPv6.15.20//NONSGML v1.0//EN
CALSCALE:GREGORIAN
METHOD:PUBLISH
X-WR-CALNAME:Ateneo de Granada
X-ORIGINAL-URL:https://ateneodegranada.com
X-WR-CALDESC:Eventos para Ateneo de Granada
REFRESH-INTERVAL;VALUE=DURATION:PT1H
X-Robots-Tag:noindex
X-PUBLISHED-TTL:PT1H
BEGIN:VTIMEZONE
TZID:Europe/Paris
BEGIN:DAYLIGHT
TZOFFSETFROM:+0100
TZOFFSETTO:+0200
TZNAME:CEST
DTSTART:20230326T010000
END:DAYLIGHT
BEGIN:STANDARD
TZOFFSETFROM:+0200
TZOFFSETTO:+0100
TZNAME:CET
DTSTART:20231029T010000
END:STANDARD
BEGIN:DAYLIGHT
TZOFFSETFROM:+0100
TZOFFSETTO:+0200
TZNAME:CEST
DTSTART:20240331T010000
END:DAYLIGHT
BEGIN:STANDARD
TZOFFSETFROM:+0200
TZOFFSETTO:+0100
TZNAME:CET
DTSTART:20241027T010000
END:STANDARD
BEGIN:DAYLIGHT
TZOFFSETFROM:+0100
TZOFFSETTO:+0200
TZNAME:CEST
DTSTART:20250330T010000
END:DAYLIGHT
BEGIN:STANDARD
TZOFFSETFROM:+0200
TZOFFSETTO:+0100
TZNAME:CET
DTSTART:20251026T010000
END:STANDARD
END:VTIMEZONE
BEGIN:VEVENT
DTSTART;TZID=Europe/Paris:20241216T190000
DTEND;TZID=Europe/Paris:20241216T210000
DTSTAMP:20260424T202545
CREATED:20241211T202846Z
LAST-MODIFIED:20241211T202846Z
UID:7419-1734375600-1734382800@ateneodegranada.com
SUMMARY:CONFERENCIA | Los arquitectos de la Gran Vía: Ángel Casas\, arquitecto del Palacio de los Müller
DESCRIPTION:🏙 Sexta jornada del ciclo de conferencias “La Gran Vía y el patrimonio urbano de Granada”: \n🎙Los arquitectos de la Gran Vía: Ángel Casas\, arquitecto del Palacio de los Müller\, de Fernando Acale Sánchez y Alejandro Amat Hernández. \n📆 16 de diciembre a las 19:00 h\n📍Hall/Salón de actos de la Subdelegación de Gobierno de España en Granada\nC/ Gran vía de Colón 50.
URL:https://ateneodegranada.com/event/conferencia-los-arquitectos-de-la-gran-via-angel-casas-arquitecto-del-palacio-de-los-muller/
LOCATION:Subdelegación de Gobierno de España en Granada\, C/ Gran Vía de Colón 50\, Granada\, Granada\, 18001\, Spain
CATEGORIES:Ateneo de Granada,Ciclo de conferencias,Granada 2031,Sección Arte y Patrimonio
ATTACH;FMTTYPE=image/jpeg:https://ateneodegranada.com/wp-content/uploads/2024/12/Imagen-de-WhatsApp-2024-12-10-a-las-10.42.24_ef9d41ec.jpg
END:VEVENT
END:VCALENDAR