BEGIN:VCALENDAR
VERSION:2.0
PRODID:-//Ateneo de Granada - ECPv6.15.20//NONSGML v1.0//EN
CALSCALE:GREGORIAN
METHOD:PUBLISH
X-ORIGINAL-URL:https://ateneodegranada.com
X-WR-CALDESC:Eventos para Ateneo de Granada
REFRESH-INTERVAL;VALUE=DURATION:PT1H
X-Robots-Tag:noindex
X-PUBLISHED-TTL:PT1H
BEGIN:VTIMEZONE
TZID:Europe/Paris
BEGIN:DAYLIGHT
TZOFFSETFROM:+0100
TZOFFSETTO:+0200
TZNAME:CEST
DTSTART:20230326T010000
END:DAYLIGHT
BEGIN:STANDARD
TZOFFSETFROM:+0200
TZOFFSETTO:+0100
TZNAME:CET
DTSTART:20231029T010000
END:STANDARD
BEGIN:DAYLIGHT
TZOFFSETFROM:+0100
TZOFFSETTO:+0200
TZNAME:CEST
DTSTART:20240331T010000
END:DAYLIGHT
BEGIN:STANDARD
TZOFFSETFROM:+0200
TZOFFSETTO:+0100
TZNAME:CET
DTSTART:20241027T010000
END:STANDARD
BEGIN:DAYLIGHT
TZOFFSETFROM:+0100
TZOFFSETTO:+0200
TZNAME:CEST
DTSTART:20250330T010000
END:DAYLIGHT
BEGIN:STANDARD
TZOFFSETFROM:+0200
TZOFFSETTO:+0100
TZNAME:CET
DTSTART:20251026T010000
END:STANDARD
END:VTIMEZONE
BEGIN:VEVENT
DTSTART;TZID=Europe/Paris:20241213T190000
DTEND;TZID=Europe/Paris:20241213T210000
DTSTAMP:20260424T202651
CREATED:20241205T150643Z
LAST-MODIFIED:20241205T150643Z
UID:7394-1734116400-1734123600@ateneodegranada.com
SUMMARY:MESA REDONDA | La salud mental en el trabajo sanitario
DESCRIPTION:Sección Los debates del Ateneo:\n🏛 MESA REDONDA | La salud mental en el trabajo sanitario \n🎙 Intervienen\nJesús Ambel\nPsicólogo especialista en Riesgos Psicosociales.\nJosé Guerrero Velázquez\nPsiquiatra. Servicio de Salud Mental.\nHospital Universitario\nVirgen de las Nieves.\nJesús Rodríguez Garvayo\nInspector de Trabajo y Seguridad Social.\nJefe de la Inspección de Trabajo\ny Seguridad Social de Granada. \n🗣 MODERA\nRosa González de Patto\nProfesora Titular de Derecho del Trabajo\ny de la Seguridad Social.\nUniversidad de Granada. \n👥 COORDINA\nManuel Peña Taveras\nMédico especialista en Medicina del Trabajo.\nMáster en Prevención de Riesgos Laborales. \n📆Viernes\, 13 de diciembre de 2024 a las 19.00 h\n📍Sede del Ateneo de Granada\, C /Martín Bohórquez 30\nEntrada libre
URL:https://ateneodegranada.com/event/mesa-redonda-la-salud-mental-en-el-trabajo-sanitario/
LOCATION:Ateneo de Granada\, C/Martín Bohórquez\, 30\, Granada\, Granada\, 18005\, Spain
CATEGORIES:Ateneo de Granada,Debates del Ateneo,Mesa Redonda,Sección Ciencia y Salud
ATTACH;FMTTYPE=image/jpeg:https://ateneodegranada.com/wp-content/uploads/2024/12/Imagen-de-WhatsApp-2024-12-04-a-las-15.48.40_9e631b7a.jpg
END:VEVENT
END:VCALENDAR